BEGIN:VCALENDAR
VERSION:2.0
PRODID:-//Storage Auction Kings - ECPv6.15.20//NONSGML v1.0//EN
CALSCALE:GREGORIAN
METHOD:PUBLISH
X-WR-CALNAME:Storage Auction Kings
X-ORIGINAL-URL:https://storageauctionkings.com
X-WR-CALDESC:Events for Storage Auction Kings
REFRESH-INTERVAL;VALUE=DURATION:PT1H
X-Robots-Tag:noindex
X-PUBLISHED-TTL:PT1H
BEGIN:VTIMEZONE
TZID:America/Denver
BEGIN:DAYLIGHT
TZOFFSETFROM:-0700
TZOFFSETTO:-0600
TZNAME:MDT
DTSTART:20250309T090000
END:DAYLIGHT
BEGIN:STANDARD
TZOFFSETFROM:-0600
TZOFFSETTO:-0700
TZNAME:MST
DTSTART:20251102T080000
END:STANDARD
BEGIN:DAYLIGHT
TZOFFSETFROM:-0700
TZOFFSETTO:-0600
TZNAME:MDT
DTSTART:20260308T090000
END:DAYLIGHT
BEGIN:STANDARD
TZOFFSETFROM:-0600
TZOFFSETTO:-0700
TZNAME:MST
DTSTART:20261101T080000
END:STANDARD
BEGIN:DAYLIGHT
TZOFFSETFROM:-0700
TZOFFSETTO:-0600
TZNAME:MDT
DTSTART:20270314T090000
END:DAYLIGHT
BEGIN:STANDARD
TZOFFSETFROM:-0600
TZOFFSETTO:-0700
TZNAME:MST
DTSTART:20271107T080000
END:STANDARD
END:VTIMEZONE
BEGIN:VEVENT
DTSTART;TZID=America/Denver:20260312T150000
DTEND;TZID=America/Denver:20260312T150000
DTSTAMP:20260423T160907
CREATED:20250609T114119Z
LAST-MODIFIED:20260310T151240Z
UID:7515-1773327600-1773327600@storageauctionkings.com
SUMMARY:-CANCELLED- U-Haul Self Storage Longmont
DESCRIPTION:Subject to change without notice.\n\n\n\n\n\nCome join us! \n\n\n\n \n 
URL:https://storageauctionkings.com/event/u-haul-self-storage-longmont-2/
LOCATION:U-Haul Longmont\, 3885 Highland Drive\, Longmont\, CO\, 80504
CATEGORIES:Colorado Auctions
END:VEVENT
BEGIN:VEVENT
DTSTART;TZID=America/Denver:20260326T110000
DTEND;TZID=America/Denver:20260326T110000
DTSTAMP:20260423T160907
CREATED:20251109T212933Z
LAST-MODIFIED:20260325T230742Z
UID:7921-1774522800-1774522800@storageauctionkings.com
SUMMARY:U-Haul Self Storage S. Santa Fe
DESCRIPTION:2 units as of 3/25/2026. Come join us! Subject to change without notice. \n\n\n \n 
URL:https://storageauctionkings.com/event/u-haul-self-storage-s-santa-fe-2/
LOCATION:U-Haul Ctr 21\, Santa Fe Dr.\, 4849 S. Santa Fe\, Littleton\, CO\, 80120\, United States
CATEGORIES:Colorado Auctions
END:VEVENT
END:VCALENDAR