BEGIN:VCALENDAR
VERSION:2.0
PRODID:-//Storage Auction Kings - ECPv6.15.20//NONSGML v1.0//EN
CALSCALE:GREGORIAN
METHOD:PUBLISH
X-WR-CALNAME:Storage Auction Kings
X-ORIGINAL-URL:https://storageauctionkings.com
X-WR-CALDESC:Events for Storage Auction Kings
REFRESH-INTERVAL;VALUE=DURATION:PT1H
X-Robots-Tag:noindex
X-PUBLISHED-TTL:PT1H
BEGIN:VTIMEZONE
TZID:America/Denver
BEGIN:DAYLIGHT
TZOFFSETFROM:-0700
TZOFFSETTO:-0600
TZNAME:MDT
DTSTART:20250309T090000
END:DAYLIGHT
BEGIN:STANDARD
TZOFFSETFROM:-0600
TZOFFSETTO:-0700
TZNAME:MST
DTSTART:20251102T080000
END:STANDARD
BEGIN:DAYLIGHT
TZOFFSETFROM:-0700
TZOFFSETTO:-0600
TZNAME:MDT
DTSTART:20260308T090000
END:DAYLIGHT
BEGIN:STANDARD
TZOFFSETFROM:-0600
TZOFFSETTO:-0700
TZNAME:MST
DTSTART:20261101T080000
END:STANDARD
BEGIN:DAYLIGHT
TZOFFSETFROM:-0700
TZOFFSETTO:-0600
TZNAME:MDT
DTSTART:20270314T090000
END:DAYLIGHT
BEGIN:STANDARD
TZOFFSETFROM:-0600
TZOFFSETTO:-0700
TZNAME:MST
DTSTART:20271107T080000
END:STANDARD
END:VTIMEZONE
BEGIN:VEVENT
DTSTART;TZID=America/Denver:20260214T090000
DTEND;TZID=America/Denver:20260214T090000
DTSTAMP:20260423T153316
CREATED:20200209T161802Z
LAST-MODIFIED:20260115T181143Z
UID:3221-1771059600-1771059600@storageauctionkings.com
SUMMARY:U-Haul Self Storage GRAND JUNCTION 1/2 Rd.
DESCRIPTION:Subject to change without notice.  \n\nATTN: THIS U-HAUL LOCATION NOW ACCEPTS CASH AS WELL AS MAJOR CREDIT AND DEBIT CARDS TO PURCHASE A UNIT!\n\n\n\n\n\nCome join us! \n\n\n\n 
URL:https://storageauctionkings.com/event/u-haul-self-storage-grand-junction-1-2-rd-3/
LOCATION:U-Haul Grand Junction 1/2 Road\, 3113 E 1/2 Rd\, Grand Junction\, CO\, 81504\, United States
CATEGORIES:Colorado Auctions
END:VEVENT
BEGIN:VEVENT
DTSTART;TZID=America/Denver:20260214T093000
DTEND;TZID=America/Denver:20260214T093000
DTSTAMP:20260423T153316
CREATED:20200209T161938Z
LAST-MODIFIED:20260115T182000Z
UID:3223-1771061400-1771061400@storageauctionkings.com
SUMMARY:U-Haul Self Storage GRAND JUNCTION - North Ave.
DESCRIPTION:Subject to change without notice.\n\n\n\n\n\nATTN: THIS U-HAUL LOCATION NOW ACCEPTS CASH AS WELL AS MAJOR CREDIT AND DEBIT CARDS TO PURCHASE A UNIT!\nYou’ll never know what you may find… \n\n\n\n 
URL:https://storageauctionkings.com/event/u-haul-self-storage-grand-junction-north-ave-3/
LOCATION:U-Haul Ctr\, Grand Junction – North Ave\, 2949 North Ave.\, Grand Junction\, CO\, 81504\, United States
CATEGORIES:Colorado Auctions
END:VEVENT
BEGIN:VEVENT
DTSTART;TZID=America/Denver:20260214T100000
DTEND;TZID=America/Denver:20260214T100000
DTSTAMP:20260423T153316
CREATED:20200209T162107Z
LAST-MODIFIED:20260115T182646Z
UID:3225-1771063200-1771063200@storageauctionkings.com
SUMMARY:U-Haul Self Storage GRAND JUNCTION - 2809 North Ave.
DESCRIPTION:Subject to change without notice.\n\n\n\n\n\nATTN: THIS U-HAUL LOCATION NOW ACCEPTS CASH AS WELL AS MAJOR CREDIT AND DEBIT CARDS TO PURCHASE A UNIT!\nYou’ll never know what you may find… \n\n\n\n 
URL:https://storageauctionkings.com/event/u-haul-self-storage-grand-junction-2809-north-ave-3/
LOCATION:U-Haul Ctr\, Grand Junction – 2809 North Ave\, 2809 N Ave.\, Grand Junction\, CO\, 81504\, United States
CATEGORIES:Colorado Auctions
END:VEVENT
END:VCALENDAR