BEGIN:VCALENDAR
VERSION:2.0
PRODID:-//Storage Auction Kings - ECPv6.15.20//NONSGML v1.0//EN
CALSCALE:GREGORIAN
METHOD:PUBLISH
X-WR-CALNAME:Storage Auction Kings
X-ORIGINAL-URL:https://storageauctionkings.com
X-WR-CALDESC:Events for Storage Auction Kings
REFRESH-INTERVAL;VALUE=DURATION:PT1H
X-Robots-Tag:noindex
X-PUBLISHED-TTL:PT1H
BEGIN:VTIMEZONE
TZID:America/Denver
BEGIN:DAYLIGHT
TZOFFSETFROM:-0700
TZOFFSETTO:-0600
TZNAME:MDT
DTSTART:20230312T090000
END:DAYLIGHT
BEGIN:STANDARD
TZOFFSETFROM:-0600
TZOFFSETTO:-0700
TZNAME:MST
DTSTART:20231105T080000
END:STANDARD
BEGIN:DAYLIGHT
TZOFFSETFROM:-0700
TZOFFSETTO:-0600
TZNAME:MDT
DTSTART:20240310T090000
END:DAYLIGHT
BEGIN:STANDARD
TZOFFSETFROM:-0600
TZOFFSETTO:-0700
TZNAME:MST
DTSTART:20241103T080000
END:STANDARD
BEGIN:DAYLIGHT
TZOFFSETFROM:-0700
TZOFFSETTO:-0600
TZNAME:MDT
DTSTART:20250309T090000
END:DAYLIGHT
BEGIN:STANDARD
TZOFFSETFROM:-0600
TZOFFSETTO:-0700
TZNAME:MST
DTSTART:20251102T080000
END:STANDARD
END:VTIMEZONE
BEGIN:VEVENT
DTSTART;TZID=America/Denver:20241105T090000
DTEND;TZID=America/Denver:20241105T090000
DTSTAMP:20260425T090444
CREATED:20241110T163612Z
LAST-MODIFIED:20241112T170806Z
UID:7208-1730797200-1730797200@storageauctionkings.com
SUMMARY:U-Box Forest St.
DESCRIPTION:Subject to change without notice. \n\n\nYou are sure to find something…
URL:https://storageauctionkings.com/event/u-box-forest-st/
LOCATION:U-Box\, 16403 E 49th Avenue\, Denver\, CO\, 80239\, United States
CATEGORIES:Colorado Auctions
END:VEVENT
BEGIN:VEVENT
DTSTART;TZID=America/Denver:20241115T090000
DTEND;TZID=America/Denver:20241115T090000
DTSTAMP:20260425T090444
CREATED:20230918T134622Z
LAST-MODIFIED:20241115T130825Z
UID:6554-1731661200-1731661200@storageauctionkings.com
SUMMARY:U-Box of Aurora
DESCRIPTION:9 units as of 11/12/2024. Subject to change without notice.\nYou are sure to find something…
URL:https://storageauctionkings.com/event/u-box-of-aurora/
LOCATION:U-Box of Aurora\, 12601 E. 33rd Ave. Unit 108\, Aurora\, CO\, 80011
CATEGORIES:Colorado Auctions
END:VEVENT
END:VCALENDAR