BEGIN:VCALENDAR
VERSION:2.0
PRODID:-//Storage Auction Kings - ECPv6.15.20//NONSGML v1.0//EN
CALSCALE:GREGORIAN
METHOD:PUBLISH
X-ORIGINAL-URL:https://storageauctionkings.com
X-WR-CALDESC:Events for Storage Auction Kings
REFRESH-INTERVAL;VALUE=DURATION:PT1H
X-Robots-Tag:noindex
X-PUBLISHED-TTL:PT1H
BEGIN:VTIMEZONE
TZID:America/Denver
BEGIN:DAYLIGHT
TZOFFSETFROM:-0700
TZOFFSETTO:-0600
TZNAME:MDT
DTSTART:20250309T090000
END:DAYLIGHT
BEGIN:STANDARD
TZOFFSETFROM:-0600
TZOFFSETTO:-0700
TZNAME:MST
DTSTART:20251102T080000
END:STANDARD
BEGIN:DAYLIGHT
TZOFFSETFROM:-0700
TZOFFSETTO:-0600
TZNAME:MDT
DTSTART:20260308T090000
END:DAYLIGHT
BEGIN:STANDARD
TZOFFSETFROM:-0600
TZOFFSETTO:-0700
TZNAME:MST
DTSTART:20261101T080000
END:STANDARD
BEGIN:DAYLIGHT
TZOFFSETFROM:-0700
TZOFFSETTO:-0600
TZNAME:MDT
DTSTART:20270314T090000
END:DAYLIGHT
BEGIN:STANDARD
TZOFFSETFROM:-0600
TZOFFSETTO:-0700
TZNAME:MST
DTSTART:20271107T080000
END:STANDARD
END:VTIMEZONE
BEGIN:VEVENT
DTSTART;TZID=America/Denver:20260313T100000
DTEND;TZID=America/Denver:20260313T110000
DTSTAMP:20260423T140505
CREATED:20200927T143328Z
LAST-MODIFIED:20260226T231328Z
UID:4204-1773396000-1773399600@storageauctionkings.com
SUMMARY:12 Broadway Self Storage
DESCRIPTION:Subject to change without notice.\n\n\n\n\n\nCome see what you can find! \n\n\n\n 
URL:https://storageauctionkings.com/event/12-broadway-self-storage/
LOCATION:12 Broadway Self Storage\, 12 Broadway\, Denver\, CO\, 80203\, United States
CATEGORIES:Colorado Auctions
END:VEVENT
BEGIN:VEVENT
DTSTART;TZID=America/Denver:20260313T150000
DTEND;TZID=America/Denver:20260313T150000
DTSTAMP:20260423T140505
CREATED:20220508T160524Z
LAST-MODIFIED:20260312T233204Z
UID:5564-1773414000-1773414000@storageauctionkings.com
SUMMARY:-CANCELLED- Colorado Springs Storage North
DESCRIPTION:Subject to change without notice. \n\n\n\n\n\nNote: Storage Auction Kings provides the lock-cut and inventory service for this location. \nAmazing Treasures Await!
URL:https://storageauctionkings.com/event/colorado-springs-storage-north-2/
LOCATION:Colorado Springs Storage North\, 330 Karen Drive\, Colorado Springs\, CO\, 80907\, United States
CATEGORIES:Colorado Auctions
END:VEVENT
BEGIN:VEVENT
DTSTART;TZID=America/Denver:20260326T100000
DTEND;TZID=America/Denver:20260326T100000
DTSTAMP:20260423T140505
CREATED:20250507T171116Z
LAST-MODIFIED:20260326T152039Z
UID:7506-1774519200-1774519200@storageauctionkings.com
SUMMARY:-CANCELLED- U-Haul Self Storage Castle Rock
DESCRIPTION:Subject to change without notice.\n\n\n\n\n\n\nYou’re sure to find something at this one!
URL:https://storageauctionkings.com/event/u-haul-center-castle-rock/
LOCATION:U-Haul Castle Rock\, 2269 Manatt Ct\, Castle Rock\, CO\, 80104\, United States
CATEGORIES:Colorado Auctions
END:VEVENT
BEGIN:VEVENT
DTSTART;TZID=America/Denver:20260326T103000
DTEND;TZID=America/Denver:20260326T103000
DTSTAMP:20260423T140505
CREATED:20251109T212702Z
LAST-MODIFIED:20260325T230528Z
UID:7919-1774521000-1774521000@storageauctionkings.com
SUMMARY:U-Haul Self Storage Highlands Ranch
DESCRIPTION:6 units as of 3/25/2026.  Subject to change without notice.\n\n\n\n\n\nCome and have some fun!! \n\n\n\n  \n 
URL:https://storageauctionkings.com/event/u-haul-self-storage-highlands-ranch/
LOCATION:U-Haul Ctr 35\, Highlands Ranch\, 1750 E. County Line Rd.\, Highlands Ranch\, CO\, 80126\, United States
CATEGORIES:Colorado Auctions
ORGANIZER;CN="Tessa Palombo":MAILTO:tessa@storageauctionkings.com
END:VEVENT
BEGIN:VEVENT
DTSTART;TZID=America/Denver:20260326T113000
DTEND;TZID=America/Denver:20260326T113000
DTSTAMP:20260423T140505
CREATED:20250507T173348Z
LAST-MODIFIED:20260325T230914Z
UID:7520-1774524600-1774524600@storageauctionkings.com
SUMMARY:U-Haul Self Storage Englewood
DESCRIPTION:9 units as of 3/25/2026.  Subject to change without notice. \nCome and join the fun!
URL:https://storageauctionkings.com/event/u-haul-self-storage-englewood/
LOCATION:U-Haul Ctr\, Englewood\, 2727 S. Santa Fe Drive\, Englewood\, CO\, 80110\, United States
CATEGORIES:Colorado Auctions
END:VEVENT
END:VCALENDAR