BEGIN:VCALENDAR
VERSION:2.0
PRODID:-//Storage Auction Kings - ECPv6.15.20//NONSGML v1.0//EN
CALSCALE:GREGORIAN
METHOD:PUBLISH
X-ORIGINAL-URL:https://storageauctionkings.com
X-WR-CALDESC:Events for Storage Auction Kings
REFRESH-INTERVAL;VALUE=DURATION:PT1H
X-Robots-Tag:noindex
X-PUBLISHED-TTL:PT1H
BEGIN:VTIMEZONE
TZID:America/Denver
BEGIN:DAYLIGHT
TZOFFSETFROM:-0700
TZOFFSETTO:-0600
TZNAME:MDT
DTSTART:20250309T090000
END:DAYLIGHT
BEGIN:STANDARD
TZOFFSETFROM:-0600
TZOFFSETTO:-0700
TZNAME:MST
DTSTART:20251102T080000
END:STANDARD
BEGIN:DAYLIGHT
TZOFFSETFROM:-0700
TZOFFSETTO:-0600
TZNAME:MDT
DTSTART:20260308T090000
END:DAYLIGHT
BEGIN:STANDARD
TZOFFSETFROM:-0600
TZOFFSETTO:-0700
TZNAME:MST
DTSTART:20261101T080000
END:STANDARD
BEGIN:DAYLIGHT
TZOFFSETFROM:-0700
TZOFFSETTO:-0600
TZNAME:MDT
DTSTART:20270314T090000
END:DAYLIGHT
BEGIN:STANDARD
TZOFFSETFROM:-0600
TZOFFSETTO:-0700
TZNAME:MST
DTSTART:20271107T080000
END:STANDARD
END:VTIMEZONE
BEGIN:VEVENT
DTSTART;TZID=America/Denver:20260213T153000
DTEND;TZID=America/Denver:20260213T153000
DTSTAMP:20260423T170444
CREATED:20200209T181050Z
LAST-MODIFIED:20260208T135350Z
UID:3302-1770996600-1770996600@storageauctionkings.com
SUMMARY:-CANCELLED- Railway Arms Self Storage
DESCRIPTION:Subject to change without notice. \nStorage Auction Kings provides lock cut services for this location. \nCome join the fun! \n 
URL:https://storageauctionkings.com/event/railway-arms-self-storage-2/
LOCATION:Railway Arms Self Storage\, 400 E Kiowa Ave\, Elizabeth\, CO\, 80107\, United States
CATEGORIES:Colorado Auctions
END:VEVENT
BEGIN:VEVENT
DTSTART;TZID=America/Denver:20260213T160000
DTEND;TZID=America/Denver:20260213T160000
DTSTAMP:20260423T170444
CREATED:20260115T180002Z
LAST-MODIFIED:20260115T180002Z
UID:8055-1770998400-1770998400@storageauctionkings.com
SUMMARY:Castle Lock Self Storage
DESCRIPTION:Subject to change without notice.\n\n\n\n\n\n\nYou’re sure to find something at this one!
URL:https://storageauctionkings.com/event/castle-lock-self-storage/
LOCATION:Castle Lock Self Storage\, 1936 Ligett Rd\, Castle Rock\, CO\, 80109\, United States
CATEGORIES:Colorado Auctions
END:VEVENT
END:VCALENDAR