BEGIN:VCALENDAR
VERSION:2.0
PRODID:-//Storage Auction Kings - ECPv6.15.20//NONSGML v1.0//EN
CALSCALE:GREGORIAN
METHOD:PUBLISH
X-WR-CALNAME:Storage Auction Kings
X-ORIGINAL-URL:https://storageauctionkings.com
X-WR-CALDESC:Events for Storage Auction Kings
REFRESH-INTERVAL;VALUE=DURATION:PT1H
X-Robots-Tag:noindex
X-PUBLISHED-TTL:PT1H
BEGIN:VTIMEZONE
TZID:America/Denver
BEGIN:DAYLIGHT
TZOFFSETFROM:-0700
TZOFFSETTO:-0600
TZNAME:MDT
DTSTART:20230312T090000
END:DAYLIGHT
BEGIN:STANDARD
TZOFFSETFROM:-0600
TZOFFSETTO:-0700
TZNAME:MST
DTSTART:20231105T080000
END:STANDARD
BEGIN:DAYLIGHT
TZOFFSETFROM:-0700
TZOFFSETTO:-0600
TZNAME:MDT
DTSTART:20240310T090000
END:DAYLIGHT
BEGIN:STANDARD
TZOFFSETFROM:-0600
TZOFFSETTO:-0700
TZNAME:MST
DTSTART:20241103T080000
END:STANDARD
BEGIN:DAYLIGHT
TZOFFSETFROM:-0700
TZOFFSETTO:-0600
TZNAME:MDT
DTSTART:20250309T090000
END:DAYLIGHT
BEGIN:STANDARD
TZOFFSETFROM:-0600
TZOFFSETTO:-0700
TZNAME:MST
DTSTART:20251102T080000
END:STANDARD
END:VTIMEZONE
BEGIN:VEVENT
DTSTART;TZID=America/Denver:20240510T110000
DTEND;TZID=America/Denver:20240510T110000
DTSTAMP:20260425T083032
CREATED:20191229T154926Z
LAST-MODIFIED:20240506T203500Z
UID:2551-1715338800-1715338800@storageauctionkings.com
SUMMARY:Railway Arms Self Storage
DESCRIPTION:3 units as of 5/6/2024. Subject to change without notice. \nCome join the fun!
URL:https://storageauctionkings.com/event/railway-arms-self-storage/
LOCATION:Railway Arms Self Storage\, 400 E Kiowa Ave\, Elizabeth\, CO\, 80107\, United States
CATEGORIES:Colorado Auctions
END:VEVENT
BEGIN:VEVENT
DTSTART;TZID=America/Denver:20240517T093000
DTEND;TZID=America/Denver:20240517T093000
DTSTAMP:20260425T083032
CREATED:20230403T135344Z
LAST-MODIFIED:20240516T144703Z
UID:6221-1715938200-1715938200@storageauctionkings.com
SUMMARY:Units of Denver
DESCRIPTION:Subject to change without notice. \nCome join the fun!
URL:https://storageauctionkings.com/event/units-of-denver/
LOCATION:Units Moving and Portable Storage – Denver\, 15100 E 40th Ave unit b\, Denver\, CO\, 80239\, United States
CATEGORIES:Colorado Auctions
END:VEVENT
END:VCALENDAR