BEGIN:VCALENDAR
VERSION:2.0
PRODID:-//Storage Auction Kings - ECPv6.15.20//NONSGML v1.0//EN
CALSCALE:GREGORIAN
METHOD:PUBLISH
X-WR-CALNAME:Storage Auction Kings
X-ORIGINAL-URL:https://storageauctionkings.com
X-WR-CALDESC:Events for Storage Auction Kings
REFRESH-INTERVAL;VALUE=DURATION:PT1H
X-Robots-Tag:noindex
X-PUBLISHED-TTL:PT1H
BEGIN:VTIMEZONE
TZID:America/Denver
BEGIN:DAYLIGHT
TZOFFSETFROM:-0700
TZOFFSETTO:-0600
TZNAME:MDT
DTSTART:20240310T090000
END:DAYLIGHT
BEGIN:STANDARD
TZOFFSETFROM:-0600
TZOFFSETTO:-0700
TZNAME:MST
DTSTART:20241103T080000
END:STANDARD
BEGIN:DAYLIGHT
TZOFFSETFROM:-0700
TZOFFSETTO:-0600
TZNAME:MDT
DTSTART:20250309T090000
END:DAYLIGHT
BEGIN:STANDARD
TZOFFSETFROM:-0600
TZOFFSETTO:-0700
TZNAME:MST
DTSTART:20251102T080000
END:STANDARD
BEGIN:DAYLIGHT
TZOFFSETFROM:-0700
TZOFFSETTO:-0600
TZNAME:MDT
DTSTART:20260308T090000
END:DAYLIGHT
BEGIN:STANDARD
TZOFFSETFROM:-0600
TZOFFSETTO:-0700
TZNAME:MST
DTSTART:20261101T080000
END:STANDARD
END:VTIMEZONE
BEGIN:VEVENT
DTSTART;TZID=America/Denver:20251013T110000
DTEND;TZID=America/Denver:20251013T110000
DTSTAMP:20260423T203442
CREATED:20231028T142923Z
LAST-MODIFIED:20251012T190248Z
UID:6631-1760353200-1760353200@storageauctionkings.com
SUMMARY:U-Haul Colorado Blvd.
DESCRIPTION:12 units as of 10/12/2025.  Subject to change without notice. \nYou are sure to find something…\n\n\n \n 
URL:https://storageauctionkings.com/event/u-haul-center-abilene-2/
LOCATION:U-Haul Ctr\, Colorado Blvd.\, 4800 Colorado Blvd\, Denver\, CO\, 80216\, United States
CATEGORIES:Colorado Auctions
END:VEVENT
BEGIN:VEVENT
DTSTART;TZID=America/Denver:20251016T090000
DTEND;TZID=America/Denver:20251016T090000
DTSTAMP:20260423T203442
CREATED:20200804T165450Z
LAST-MODIFIED:20251012T202321Z
UID:4053-1760605200-1760605200@storageauctionkings.com
SUMMARY:Crestline Self Storage
DESCRIPTION:14 units as of 10/12/2025.  Subject to change without notice.\n\n\n\n\n\nAmazing Treasures Await! \nNote: Storage Auction Kings provides the lock-cut and inventory service for this location.  Click for lock cut and inventory pictures.  \n\n\n\n 
URL:https://storageauctionkings.com/event/crestline-self-storage/
LOCATION:Crestline Self Storage\, 7330 Brighton Blvd.\, Commerce City\, CO\, 80022\, United States
CATEGORIES:Colorado Auctions
END:VEVENT
END:VCALENDAR