BEGIN:VCALENDAR
VERSION:2.0
PRODID:-//Storage Auction Kings - ECPv6.15.20//NONSGML v1.0//EN
CALSCALE:GREGORIAN
METHOD:PUBLISH
X-WR-CALNAME:Storage Auction Kings
X-ORIGINAL-URL:https://storageauctionkings.com
X-WR-CALDESC:Events for Storage Auction Kings
REFRESH-INTERVAL;VALUE=DURATION:PT1H
X-Robots-Tag:noindex
X-PUBLISHED-TTL:PT1H
BEGIN:VTIMEZONE
TZID:America/Denver
BEGIN:DAYLIGHT
TZOFFSETFROM:-0700
TZOFFSETTO:-0600
TZNAME:MDT
DTSTART:20240310T090000
END:DAYLIGHT
BEGIN:STANDARD
TZOFFSETFROM:-0600
TZOFFSETTO:-0700
TZNAME:MST
DTSTART:20241103T080000
END:STANDARD
BEGIN:DAYLIGHT
TZOFFSETFROM:-0700
TZOFFSETTO:-0600
TZNAME:MDT
DTSTART:20250309T090000
END:DAYLIGHT
BEGIN:STANDARD
TZOFFSETFROM:-0600
TZOFFSETTO:-0700
TZNAME:MST
DTSTART:20251102T080000
END:STANDARD
BEGIN:DAYLIGHT
TZOFFSETFROM:-0700
TZOFFSETTO:-0600
TZNAME:MDT
DTSTART:20260308T090000
END:DAYLIGHT
BEGIN:STANDARD
TZOFFSETFROM:-0600
TZOFFSETTO:-0700
TZNAME:MST
DTSTART:20261101T080000
END:STANDARD
END:VTIMEZONE
BEGIN:VEVENT
DTSTART;TZID=America/Denver:20250815T160000
DTEND;TZID=America/Denver:20250815T160000
DTSTAMP:20260424T032740
CREATED:20210626T210344Z
LAST-MODIFIED:20250809T195243Z
UID:4942-1755273600-1755273600@storageauctionkings.com
SUMMARY:Knob Hill Storage - Costilla Location
DESCRIPTION:  \n\n2 units as of 8/9/2025.   Subject to change without notice. \n\n\n\n\nNote: Storage Auction Kings provides the lock-cut and inventory service for this location. \nAmazing Treasures Await!
URL:https://storageauctionkings.com/event/knob-hill-storage-costilla-location/
LOCATION:Knob Hill Storage – Costilla\, 721 East Costilla\, Colorado Springs\, CO\, 80903\, United States
CATEGORIES:Colorado Auctions
END:VEVENT
BEGIN:VEVENT
DTSTART;TZID=America/Denver:20250815T163000
DTEND;TZID=America/Denver:20250815T163000
DTSTAMP:20260424T032740
CREATED:20210626T205820Z
LAST-MODIFIED:20250815T142231Z
UID:4940-1755275400-1755275400@storageauctionkings.com
SUMMARY:-CANCELLED- Knob Hill Self Storage - Platte Location
DESCRIPTION:1 unit as of 8/9/2025.  Subject to change without notice.\n\n\n\n\n\n\nAmazing Treasures Await! \nNote: Storage Auction Kings provides the lock-cut and inventory service for this location.  Click for lock cut and inventory pictures. 
URL:https://storageauctionkings.com/event/knob-hill-self-storage-platte-location/
LOCATION:Knob Hill Storage\, LLC\, 1917 East Platte Ave.\, Colorado Springs\, CO\, 80903\, United States
CATEGORIES:Colorado Auctions
END:VEVENT
END:VCALENDAR