BEGIN:VCALENDAR
VERSION:2.0
PRODID:-//Storage Auction Kings - ECPv6.15.20//NONSGML v1.0//EN
CALSCALE:GREGORIAN
METHOD:PUBLISH
X-WR-CALNAME:Storage Auction Kings
X-ORIGINAL-URL:https://storageauctionkings.com
X-WR-CALDESC:Events for Storage Auction Kings
REFRESH-INTERVAL;VALUE=DURATION:PT1H
X-Robots-Tag:noindex
X-PUBLISHED-TTL:PT1H
BEGIN:VTIMEZONE
TZID:America/Denver
BEGIN:DAYLIGHT
TZOFFSETFROM:-0700
TZOFFSETTO:-0600
TZNAME:MDT
DTSTART:20240310T090000
END:DAYLIGHT
BEGIN:STANDARD
TZOFFSETFROM:-0600
TZOFFSETTO:-0700
TZNAME:MST
DTSTART:20241103T080000
END:STANDARD
BEGIN:DAYLIGHT
TZOFFSETFROM:-0700
TZOFFSETTO:-0600
TZNAME:MDT
DTSTART:20250309T090000
END:DAYLIGHT
BEGIN:STANDARD
TZOFFSETFROM:-0600
TZOFFSETTO:-0700
TZNAME:MST
DTSTART:20251102T080000
END:STANDARD
BEGIN:DAYLIGHT
TZOFFSETFROM:-0700
TZOFFSETTO:-0600
TZNAME:MDT
DTSTART:20260308T090000
END:DAYLIGHT
BEGIN:STANDARD
TZOFFSETFROM:-0600
TZOFFSETTO:-0700
TZNAME:MST
DTSTART:20261101T080000
END:STANDARD
END:VTIMEZONE
BEGIN:VEVENT
DTSTART;TZID=America/Denver:20250403T090000
DTEND;TZID=America/Denver:20250403T090000
DTSTAMP:20260424T063624
CREATED:20240118T184633Z
LAST-MODIFIED:20250402T225616Z
UID:6783-1743670800-1743670800@storageauctionkings.com
SUMMARY:-CANCELLED- U-Haul Center Abilene
DESCRIPTION:Subject to change without notice. \n\n\nYou are sure to find something…\n\n\n \n 
URL:https://storageauctionkings.com/event/u-haul-center-abilene-4/
LOCATION:U-Haul Ctr\, Abilene\, 2150 S. Abilene Street\, Aurora\, CO\, 80014\, United States
CATEGORIES:Colorado Auctions
END:VEVENT
BEGIN:VEVENT
DTSTART;TZID=America/Denver:20250404T120000
DTEND;TZID=America/Denver:20250404T120000
DTSTAMP:20260424T063624
CREATED:20220508T160026Z
LAST-MODIFIED:20250404T175821Z
UID:5556-1743768000-1743768000@storageauctionkings.com
SUMMARY:-CANCELLED- Colorado Springs Storage South
DESCRIPTION: Subject to change without notice.\n\n\n\n\n\n\nAmazing Treasures Await! \nNote: Storage Auction Kings provides the lock-cut and inventory service for this location.  Click for lock cut and inventory pictures.  \n\n\n\n 
URL:https://storageauctionkings.com/event/colorado-springs-storage-south-2/
LOCATION:Colorado Springs Storage South\, 1625 Lashelle Way\, Colorado Springs\, CO\, 80906\, United States
CATEGORIES:Colorado Auctions
END:VEVENT
BEGIN:VEVENT
DTSTART;TZID=America/Denver:20250404T140000
DTEND;TZID=America/Denver:20250404T140000
DTSTAMP:20260424T063624
CREATED:20191101T223318Z
LAST-MODIFIED:20250404T175926Z
UID:1495-1743775200-1743775200@storageauctionkings.com
SUMMARY:-CANCELLED- Colorado Springs Storage Central
DESCRIPTION:Subject to change without notice.\n\n\n\n\n\n\nAmazing Treasures Await! \nNote: Storage Auction Kings provides the lock-cut and inventory service for this location. \n\n\n\n 
URL:https://storageauctionkings.com/event/colorado-springs-storage-central/
LOCATION:Colorado Springs Storage Central\, 3132 Mallard Drive\, Colorado Springs\, CO\, 80910\, United States
CATEGORIES:Colorado Auctions
END:VEVENT
END:VCALENDAR