BEGIN:VCALENDAR
VERSION:2.0
PRODID:-//Storage Auction Kings - ECPv6.15.20//NONSGML v1.0//EN
CALSCALE:GREGORIAN
METHOD:PUBLISH
X-ORIGINAL-URL:https://storageauctionkings.com
X-WR-CALDESC:Events for Storage Auction Kings
REFRESH-INTERVAL;VALUE=DURATION:PT1H
X-Robots-Tag:noindex
X-PUBLISHED-TTL:PT1H
BEGIN:VTIMEZONE
TZID:America/Denver
BEGIN:DAYLIGHT
TZOFFSETFROM:-0700
TZOFFSETTO:-0600
TZNAME:MDT
DTSTART:20210314T090000
END:DAYLIGHT
BEGIN:STANDARD
TZOFFSETFROM:-0600
TZOFFSETTO:-0700
TZNAME:MST
DTSTART:20211107T080000
END:STANDARD
BEGIN:DAYLIGHT
TZOFFSETFROM:-0700
TZOFFSETTO:-0600
TZNAME:MDT
DTSTART:20220313T090000
END:DAYLIGHT
BEGIN:STANDARD
TZOFFSETFROM:-0600
TZOFFSETTO:-0700
TZNAME:MST
DTSTART:20221106T080000
END:STANDARD
BEGIN:DAYLIGHT
TZOFFSETFROM:-0700
TZOFFSETTO:-0600
TZNAME:MDT
DTSTART:20230312T090000
END:DAYLIGHT
BEGIN:STANDARD
TZOFFSETFROM:-0600
TZOFFSETTO:-0700
TZNAME:MST
DTSTART:20231105T080000
END:STANDARD
BEGIN:DAYLIGHT
TZOFFSETFROM:-0700
TZOFFSETTO:-0600
TZNAME:MDT
DTSTART:20240310T090000
END:DAYLIGHT
BEGIN:STANDARD
TZOFFSETFROM:-0600
TZOFFSETTO:-0700
TZNAME:MST
DTSTART:20241103T080000
END:STANDARD
BEGIN:DAYLIGHT
TZOFFSETFROM:-0700
TZOFFSETTO:-0600
TZNAME:MDT
DTSTART:20250309T090000
END:DAYLIGHT
BEGIN:STANDARD
TZOFFSETFROM:-0600
TZOFFSETTO:-0700
TZNAME:MST
DTSTART:20251102T080000
END:STANDARD
END:VTIMEZONE
BEGIN:VEVENT
DTSTART;TZID=America/Denver:20240416T170000
DTEND;TZID=America/Denver:20240416T170000
DTSTAMP:20260423T190827
CREATED:20230430T151457Z
LAST-MODIFIED:20240414T194713Z
UID:6275-1713286800-1713286800@storageauctionkings.com
SUMMARY:Storage Star Self Storage - Grape Street
DESCRIPTION:12 units as of 4/14/2024.  Subject to change without notice. \n\n\n\nCome check it out and see what interesting things may be hiding in these units! \n  \n\n\n\n  \n 
URL:https://storageauctionkings.com/event/storage-star-self-storage-grape-street/
LOCATION:Storage Star Denver\, 4005 Grape Street\, Denver\, CO\, 80216\, United States
CATEGORIES:Colorado Auctions
END:VEVENT
BEGIN:VEVENT
DTSTART;TZID=America/Denver:20240416T150000
DTEND;TZID=America/Denver:20240416T150000
DTSTAMP:20260423T190827
CREATED:20200126T183314Z
LAST-MODIFIED:20240414T194628Z
UID:3096-1713279600-1713279600@storageauctionkings.com
SUMMARY:2020 Self Storage
DESCRIPTION:12 units as of 4/14/2024.  Subject to change without notice.\n\n\n\n\n\nDon’t miss this one!
URL:https://storageauctionkings.com/event/2020-self-storage/
LOCATION:2020 Storage\, 2020 Arapahoe St.\, Unit LL\, Denver\, CO\, 80202\, United States
CATEGORIES:Colorado Auctions
END:VEVENT
BEGIN:VEVENT
DTSTART;TZID=America/Denver:20240416T090000
DTEND;TZID=America/Denver:20240416T090000
DTSTAMP:20260423T190827
CREATED:20210117T132758Z
LAST-MODIFIED:20240409T191846Z
UID:4564-1713258000-1713258000@storageauctionkings.com
SUMMARY:Eden's Moving Services
DESCRIPTION:58 units as of 4/9/2024.  \nSubject to change without notice. \n 
URL:https://storageauctionkings.com/event/edens-moving-services/
LOCATION:Eden’s Moving Services\, 14800 E 35th Place #600\, Aurora\, CO\, 80011\, United States
END:VEVENT
BEGIN:VEVENT
DTSTART;TZID=America/Denver:20240314T150000
DTEND;TZID=America/Denver:20240314T150000
DTSTAMP:20260423T190827
CREATED:20200113T164517Z
LAST-MODIFIED:20240310T195908Z
UID:2925-1710428400-1710428400@storageauctionkings.com
SUMMARY:I-76 Self Storage
DESCRIPTION: \n\n\n\n\n8 units as of 3/10/2024.  Come check it out and see what interesting things may be hiding in these units!
URL:https://storageauctionkings.com/event/mesa-ridge-self-storage-3/
LOCATION:Hudson I76 Self Storage\, 22203 Interstate 76 Frontage Rd\, Hudson\, CO\, 80643\, United States
CATEGORIES:Colorado Auctions
END:VEVENT
BEGIN:VEVENT
DTSTART;TZID=America/Denver:20240314T110000
DTEND;TZID=America/Denver:20240314T110000
DTSTAMP:20260423T190827
CREATED:20230625T203258Z
LAST-MODIFIED:20240311T191132Z
UID:6407-1710414000-1710414000@storageauctionkings.com
SUMMARY:2nd St. Self Storage - Berthoud
DESCRIPTION:NEW LOCATION!  \n2 units as of 3/11/2024.  Subject to change without notice. \n 
URL:https://storageauctionkings.com/event/2nd-st-self-storage-berthoud/
LOCATION:2nd St. Storage – Berthoud\, 945 N 2nd St\, Berthoud\, CO\, 80513\, United States
END:VEVENT
BEGIN:VEVENT
DTSTART;TZID=America/Denver:20240312T153000
DTEND;TZID=America/Denver:20240312T153000
DTSTAMP:20260423T190827
CREATED:20240219T220100Z
LAST-MODIFIED:20240310T200253Z
UID:6817-1710257400-1710257400@storageauctionkings.com
SUMMARY:-CANCELLED- Storage Star Self Storage - Colorado Springs
DESCRIPTION:Subject to change without notice. \n\n\n\nCome check it out and see what interesting things may be hiding in these units! \nNote: Storage Auction Kings provides the lock-cut and inventory service for this location.
URL:https://storageauctionkings.com/event/storage-star-self-storage-colorado-springs/
LOCATION:Storage Star – Colorado Springs\, 1935 Aerotech Drive\, Colorado Springs\, CO\, 80916\, United States
CATEGORIES:Colorado Auctions
END:VEVENT
BEGIN:VEVENT
DTSTART;TZID=America/Denver:20231118T150000
DTEND;TZID=America/Denver:20231118T150000
DTSTAMP:20260423T190827
CREATED:20200315T154957Z
LAST-MODIFIED:20231118T200545Z
UID:3541-1700319600-1700319600@storageauctionkings.com
SUMMARY:Storage One Self Storage - Bailey
DESCRIPTION:6 units as of 11/15/2023.  Subject to change without notice.\n\n\n\n\n\nYou’re sure to find something at this one!
URL:https://storageauctionkings.com/event/elkridge-self-storage/
LOCATION:Storage One – Bailey\, 10741 US Highway 285\, Bailey\, CO\, 80421\, United States
CATEGORIES:Colorado Auctions
END:VEVENT
BEGIN:VEVENT
DTSTART;TZID=America/Denver:20230914T090000
DTEND;TZID=America/Denver:20230914T090000
DTSTAMP:20260423T190827
CREATED:20230403T140607Z
LAST-MODIFIED:20230909T192100Z
UID:6227-1694682000-1694682000@storageauctionkings.com
SUMMARY:Storage Time - Colorado Springs
DESCRIPTION:7 units as of 9/8/2023.  Subject to change without notice. \n\n\n\n\n\nAmazing Treasures Await!
URL:https://storageauctionkings.com/event/storage-time-colorado-springs/
LOCATION:Storage Time C. Springs\, 4355 E. Pikes Peak Ave.\, Colorado Springs\, CO\, 80909\, United States
CATEGORIES:Colorado Auctions
END:VEVENT
BEGIN:VEVENT
DTSTART;TZID=America/Denver:20230913T160000
DTEND;TZID=America/Denver:20230913T160000
DTSTAMP:20260423T190827
CREATED:20230909T193743Z
LAST-MODIFIED:20230912T181431Z
UID:6526-1694620800-1694620800@storageauctionkings.com
SUMMARY:-CANCELLED- Mini Storage - Silverthorne
DESCRIPTION:Subject to change without notice. \n\n\n\nCome check it out and see what interesting things may be hiding in these units! \nNote: Storage Auction Kings provides the lock-cut and inventory service for this location.
URL:https://storageauctionkings.com/event/mini-storage-silverthorne/
LOCATION:Summit Place Storage\, I-70 & CO Hwy 6\, Silverthorne\, CO\, 80498
CATEGORIES:Colorado Auctions
END:VEVENT
BEGIN:VEVENT
DTSTART;TZID=America/Denver:20230811T150000
DTEND;TZID=America/Denver:20230811T150000
DTSTAMP:20260423T190827
CREATED:20220301T193320Z
LAST-MODIFIED:20230805T114428Z
UID:5419-1691766000-1691766000@storageauctionkings.com
SUMMARY:K and K Self Storage - Evans
DESCRIPTION:7 units as of 8/5/2023.  Subject to change without notice. \n\n\n\n\n\nAmazing Treasures Await! 
URL:https://storageauctionkings.com/event/k-and-k-self-storage-evans/
LOCATION:K and K Self Storage\, 3951 Carson Ave\, Evans\, CO\, 80620\, United States
CATEGORIES:Colorado Auctions
END:VEVENT
BEGIN:VEVENT
DTSTART;TZID=America/Denver:20230714T090000
DTEND;TZID=America/Denver:20230714T090000
DTSTAMP:20260423T190827
CREATED:20220511T204248Z
LAST-MODIFIED:20230709T164039Z
UID:5579-1689325200-1689325200@storageauctionkings.com
SUMMARY:-CANCELLED-  Foothills Self Storage
DESCRIPTION:Subject to change without notice. \nCome check it out and see what interesting things may be hiding in these units!
URL:https://storageauctionkings.com/event/foothills-self-storage/
LOCATION:Safe and Secure Self Storage\, 1015 3rd Street\, Greeley\, CO\, 80631\, United States
CATEGORIES:Colorado Auctions
END:VEVENT
BEGIN:VEVENT
DTSTART;TZID=America/Denver:20230711T090000
DTEND;TZID=America/Denver:20230711T090000
DTSTAMP:20260423T190827
CREATED:20191101T220736Z
LAST-MODIFIED:20230531T134335Z
UID:1474-1689066000-1689066000@storageauctionkings.com
SUMMARY:Laredo Self Storage
DESCRIPTION:Subject to change without notice.\n\n\n\n\n\nYou never know what you may find…
URL:https://storageauctionkings.com/event/flat-irons-self-storage/
LOCATION:Laredo Business Park\, 493 Laredo St\, Aurora\, CO\, 80011\, United States
CATEGORIES:Colorado Auctions
END:VEVENT
BEGIN:VEVENT
DTSTART;TZID=America/Denver:20230617T100000
DTEND;TZID=America/Denver:20230617T100000
DTSTAMP:20260423T190827
CREATED:20200804T143644Z
LAST-MODIFIED:20230613T222503Z
UID:3987-1686996000-1686996000@storageauctionkings.com
SUMMARY:Storage Star Self Storage - Cheyenne
DESCRIPTION:19 units as of 6/13/2023.  Subject to change without notice. \n\n\n\nCome check it out and see what interesting things may be hiding in these units! \nNote: Storage Auction Kings provides the lock-cut and inventory service for this location.
URL:https://storageauctionkings.com/event/storage-star-self-storage-cheyenne/
LOCATION:Storage Star Self Storage – Cheyenne\, 4405 Van Buren Ave\, Cheyenne\, WY\, 82001\, United States
CATEGORIES:Colorado Auctions
END:VEVENT
BEGIN:VEVENT
DTSTART;TZID=America/Denver:20230614T150000
DTEND;TZID=America/Denver:20230614T150000
DTSTAMP:20260423T190827
CREATED:20220831T203911Z
LAST-MODIFIED:20230604T110229Z
UID:5819-1686754800-1686754800@storageauctionkings.com
SUMMARY:-CANCELLED- Granby Self Storage
DESCRIPTION:NEW LOCATION!! \nSubject to change without notice.
URL:https://storageauctionkings.com/event/granby-self-storage/
LOCATION:Granby Self Storage\, 62438 US Hwy 40\, Granby\, CO\, 80446
END:VEVENT
BEGIN:VEVENT
DTSTART;TZID=America/Denver:20230612T120000
DTEND;TZID=America/Denver:20230612T120000
DTSTAMP:20260423T190827
CREATED:20230128T144453Z
LAST-MODIFIED:20230611T235847Z
UID:6068-1686571200-1686571200@storageauctionkings.com
SUMMARY:A1 Personal Storage - Longmont
DESCRIPTION:2 units as of 6/11/2023.  Subject to change without notice.
URL:https://storageauctionkings.com/event/a1-personal-storage-longmont/
LOCATION:A1 Personal Storage – Longmont\, 822 S. Sherman St.\, Longmont\, CO\, 80501\, United States
END:VEVENT
BEGIN:VEVENT
DTSTART;TZID=America/Denver:20230511T140000
DTEND;TZID=America/Denver:20230511T140000
DTSTAMP:20260423T190827
CREATED:20230430T171858Z
LAST-MODIFIED:20230511T004842Z
UID:6298-1683813600-1683813600@storageauctionkings.com
SUMMARY:Fox Trot LLC
DESCRIPTION:2 units as of 5/5/2023.  Subject to change without notice.
URL:https://storageauctionkings.com/event/fox-trot-llc/
LOCATION:Fox Trot\, 615 County Line Road\, Palmer Lake\, CO\, 80133\, United States
END:VEVENT
BEGIN:VEVENT
DTSTART;TZID=America/Denver:20230414T110000
DTEND;TZID=America/Denver:20230414T110000
DTSTAMP:20260423T190827
CREATED:20210726T132727Z
LAST-MODIFIED:20230410T191152Z
UID:5013-1681470000-1681470000@storageauctionkings.com
SUMMARY:Apollo Self Storage
DESCRIPTION:3 units as of 4/10/2023.  Subject to change without notice. \nCome check it out and see what interesting things may be hiding in these units!
URL:https://storageauctionkings.com/event/apollo-self-storage/
LOCATION:Apollo Storage\, 17120 CO-72\, Arvada\, CO\, 80007\, United States
CATEGORIES:Colorado Auctions
END:VEVENT
BEGIN:VEVENT
DTSTART;TZID=America/Denver:20230412T120000
DTEND;TZID=America/Denver:20230412T120000
DTSTAMP:20260423T190827
CREATED:20230324T144830Z
LAST-MODIFIED:20230405T191814Z
UID:6191-1681300800-1681300800@storageauctionkings.com
SUMMARY:Storage West Self Storage
DESCRIPTION:8 units as of 4/5/2023.  Subject to change without notice. 
URL:https://storageauctionkings.com/event/storage-west-self-storage/
LOCATION:Storage West SS\, 2401 3rd Av.\, Longmont\, CO\, 80503\, United States
END:VEVENT
BEGIN:VEVENT
DTSTART;TZID=America/Denver:20230412T100000
DTEND;TZID=America/Denver:20230412T100000
DTSTAMP:20260423T190827
CREATED:20230324T143932Z
LAST-MODIFIED:20230405T191732Z
UID:6187-1681293600-1681293600@storageauctionkings.com
SUMMARY:Ram Self Storage
DESCRIPTION:6 units as of 4/5/2023.  Subject to change without notice. 
URL:https://storageauctionkings.com/event/ram-self-storage/
LOCATION:Ram Self Storage Center\, 415 Linden Center Dr.\, Ft. Collins\, CO\, 80524\, United States
END:VEVENT
BEGIN:VEVENT
DTSTART;TZID=America/Denver:20230412T090000
DTEND;TZID=America/Denver:20230412T090000
DTSTAMP:20260423T190827
CREATED:20230324T143000Z
LAST-MODIFIED:20230408T121248Z
UID:6184-1681290000-1681290000@storageauctionkings.com
SUMMARY:A+ Mini Storage - Fort Collins
DESCRIPTION:12 units as of 4/8/2023.  Subject to change without notice. 
URL:https://storageauctionkings.com/event/a-mini-storage-fort-collins/
LOCATION:A+ Mini Storage – Fort Collins\, 165 Colboard Dr.\, Fort Collins\, CO\, 80525\, United States
END:VEVENT
BEGIN:VEVENT
DTSTART;TZID=America/Denver:20230411T113000
DTEND;TZID=America/Denver:20230411T113000
DTSTAMP:20260423T190827
CREATED:20230403T135034Z
LAST-MODIFIED:20230408T122733Z
UID:6218-1681212600-1681212600@storageauctionkings.com
SUMMARY:A Storage Place - Denver
DESCRIPTION:5 units as of 4/8/2023.  Subject to change without notice. \nCome see what you can find!
URL:https://storageauctionkings.com/event/fischer-van-lines-moving-company/
LOCATION:Fischer Moving\, 2115 W 14th Ave.\, Denver\, CO\, 80204\, United States
CATEGORIES:Colorado Auctions
END:VEVENT
BEGIN:VEVENT
DTSTART;TZID=America/Denver:20230113T130000
DTEND;TZID=America/Denver:20230113T130000
DTSTAMP:20260423T190827
CREATED:20221211T183730Z
LAST-MODIFIED:20230108T144304Z
UID:6011-1673614800-1673614800@storageauctionkings.com
SUMMARY:Johnson Storage - Centennial
DESCRIPTION:32 units as of 1/08/2023.  Subject to change without notice. \nCome see what you can find!
URL:https://storageauctionkings.com/event/johnson-storage-centennial/
LOCATION:Johnson Centennial\, 7009 S Jordan Rd.\, Centennial\, CO\, 80112\, United States
END:VEVENT
BEGIN:VEVENT
DTSTART;TZID=America/Denver:20230113T100000
DTEND;TZID=America/Denver:20230113T100000
DTSTAMP:20260423T190827
CREATED:20191106T015852Z
LAST-MODIFIED:20230112T180115Z
UID:1533-1673604000-1673604000@storageauctionkings.com
SUMMARY:Pony Express Mini Storage II - Brighton
DESCRIPTION:13 units as of 1/12/2023.  Subject to change without notice.\n\n\n\n\n\nDon’t miss out on this great location!
URL:https://storageauctionkings.com/event/pony-express-mini-storage-ii-brighton/
LOCATION:Pony Express II Self Storage\, 180 Bromley Business Pwy.\, Brighton\, CO\, 80603\, United States
CATEGORIES:Colorado Auctions
END:VEVENT
BEGIN:VEVENT
DTSTART;TZID=America/Denver:20230112T140000
DTEND;TZID=America/Denver:20230112T140000
DTSTAMP:20260423T190827
CREATED:20230108T150833Z
LAST-MODIFIED:20230112T132850Z
UID:6035-1673532000-1673532000@storageauctionkings.com
SUMMARY:-CANCELLED- Security Self Storage
DESCRIPTION:2 units as of 1/08/2023.  Subject to change without notice.
URL:https://storageauctionkings.com/event/security-self-storage/
LOCATION:Security Self Storage\, 4095 Lee Vance Drive\, Colorado Springs\, CO\, 80918\, United States
END:VEVENT
BEGIN:VEVENT
DTSTART;TZID=America/Denver:20230110T090000
DTEND;TZID=America/Denver:20230110T090000
DTSTAMP:20260423T190827
CREATED:20220608T003722Z
LAST-MODIFIED:20230109T193907Z
UID:5603-1673341200-1673341200@storageauctionkings.com
SUMMARY:-CANCELLED- Units Moving and Portable Storage - Denver
DESCRIPTION: Subject to change without notice. \nCome and check out this location! \nNote: Storage Auction Kings provides the lock-cut and inventory service for this location. \n 
URL:https://storageauctionkings.com/event/units-moving-and-portable-storage-of-north-denver/
LOCATION:Units Moving and Portable Storage – Denver\, 15100 E 40th Ave unit b\, Denver\, CO\, 80239\, United States
CATEGORIES:Colorado Auctions
END:VEVENT
BEGIN:VEVENT
DTSTART;TZID=America/Denver:20221215T150000
DTEND;TZID=America/Denver:20221215T150000
DTSTAMP:20260423T190827
CREATED:20221211T180557Z
LAST-MODIFIED:20221211T180557Z
UID:5992-1671116400-1671116400@storageauctionkings.com
SUMMARY:N. Spruce Street
DESCRIPTION:3 units as of 12/11/2022. Subject to change without notice.\n\n\n\n\n\n\nAmazing Treasures Await! \nNote: Storage Auction Kings provides the lock-cut and inventory service for this location.  Click for lock cut and inventory pictures. 
URL:https://storageauctionkings.com/event/n-spruce-street/
LOCATION:N Spruce Street\, 323 North Spruce Street\, Colorado Springs\, CO\, 80905\, United States
CATEGORIES:Colorado Auctions
END:VEVENT
BEGIN:VEVENT
DTSTART;TZID=America/Denver:20221110T110000
DTEND;TZID=America/Denver:20221110T110000
DTSTAMP:20260423T190827
CREATED:20221027T171046Z
LAST-MODIFIED:20221110T133724Z
UID:5907-1668078000-1668078000@storageauctionkings.com
SUMMARY:-CANCELLED- Frontier Self Storage - Johnstown
DESCRIPTION:10 units as of 11/7/2022.  Subject to change without notice. \nNote: Storage Auction Kings provides the lock-cut and inventory service for this location.
URL:https://storageauctionkings.com/event/frontier-self-storage-johnstown/
LOCATION:Frontier Storage – Johnstown\, 2 Industrial Park\, Johnstown\, CO\, 80534
END:VEVENT
BEGIN:VEVENT
DTSTART;TZID=America/Denver:20220808T130000
DTEND;TZID=America/Denver:20220808T130000
DTSTAMP:20260423T190827
CREATED:20210312T151142Z
LAST-MODIFIED:20220806T160458Z
UID:4331-1659963600-1659963600@storageauctionkings.com
SUMMARY:Johnson Storage - Denver
DESCRIPTION:23 units as of 8/5/20222. Subject to change without notice. \nCome see what you can find!
URL:https://storageauctionkings.com/event/johnson-moving-and-storage/
LOCATION:Johnson Storage & Moving -Denver\, 221 Broadway\, Denver\, CO\, 80203\, United States
END:VEVENT
BEGIN:VEVENT
DTSTART;TZID=America/Denver:20220711T120000
DTEND;TZID=America/Denver:20220711T120000
DTSTAMP:20260423T190827
CREATED:20220608T223158Z
LAST-MODIFIED:20220707T225040Z
UID:5636-1657540800-1657540800@storageauctionkings.com
SUMMARY:Aurora RV Self Storage
DESCRIPTION:1 unit as of 7/7/2022. Subject to change without notice. \nCome out and check it out! \nNote: Storage Auction Kings provides the lock-cut and inventory service for this location.
URL:https://storageauctionkings.com/event/aurora-rv-self-storage/
LOCATION:Aurora RV Self Storage\, 14700 E Otero Ave\, Centennial\, CO\, 80112
CATEGORIES:Colorado Auctions
END:VEVENT
BEGIN:VEVENT
DTSTART;TZID=America/Denver:20220711T100000
DTEND;TZID=America/Denver:20220711T100000
DTSTAMP:20260423T190827
CREATED:20220608T222658Z
LAST-MODIFIED:20220707T225010Z
UID:5634-1657533600-1657533600@storageauctionkings.com
SUMMARY:Denver RV Self Storage - Click to View Pictures!!
DESCRIPTION:12 units as of 7/7/2022. Subject to change without notice.\n\n\n\n\n\nNote: Storage Auction Kings provides the lock-cut and inventory service for this location. \nAmazing Treasures Await!
URL:https://storageauctionkings.com/event/denver-rv-self-storage/
LOCATION:Denver RV Self Storage\, 9464 N Moore Rd\, Littleton\, CO\, 80125
CATEGORIES:Colorado Auctions
END:VEVENT
END:VCALENDAR