BEGIN:VCALENDAR
VERSION:2.0
PRODID:-//Storage Auction Kings - ECPv6.15.20//NONSGML v1.0//EN
CALSCALE:GREGORIAN
METHOD:PUBLISH
X-WR-CALNAME:Storage Auction Kings
X-ORIGINAL-URL:https://storageauctionkings.com
X-WR-CALDESC:Events for Storage Auction Kings
REFRESH-INTERVAL;VALUE=DURATION:PT1H
X-Robots-Tag:noindex
X-PUBLISHED-TTL:PT1H
BEGIN:VTIMEZONE
TZID:America/Denver
BEGIN:DAYLIGHT
TZOFFSETFROM:-0700
TZOFFSETTO:-0600
TZNAME:MDT
DTSTART:20180311T090000
END:DAYLIGHT
BEGIN:STANDARD
TZOFFSETFROM:-0600
TZOFFSETTO:-0700
TZNAME:MST
DTSTART:20181104T080000
END:STANDARD
BEGIN:DAYLIGHT
TZOFFSETFROM:-0700
TZOFFSETTO:-0600
TZNAME:MDT
DTSTART:20190310T090000
END:DAYLIGHT
BEGIN:STANDARD
TZOFFSETFROM:-0600
TZOFFSETTO:-0700
TZNAME:MST
DTSTART:20191103T080000
END:STANDARD
BEGIN:DAYLIGHT
TZOFFSETFROM:-0700
TZOFFSETTO:-0600
TZNAME:MDT
DTSTART:20200308T090000
END:DAYLIGHT
BEGIN:STANDARD
TZOFFSETFROM:-0600
TZOFFSETTO:-0700
TZNAME:MST
DTSTART:20201101T080000
END:STANDARD
END:VTIMEZONE
BEGIN:VEVENT
DTSTART;TZID=America/Denver:20191205T100000
DTEND;TZID=America/Denver:20191205T100000
DTSTAMP:20260424T083758
CREATED:20191106T020226Z
LAST-MODIFIED:20191229T183915Z
UID:1539-1575540000-1575540000@storageauctionkings.com
SUMMARY:PODS - Denver
DESCRIPTION:9 units as of 12/4/2019.  Subject to change without notice.\n\n\n\n\n\n  \nCome see what you can find! \nNote: Storage Auction Kings provides the lock-cut and inventory service for this location.
URL:https://storageauctionkings.com/event/pods-denver/
LOCATION:PODS – Denver\, 21110 E. 31st Circle\, Aurora\, CO\, 80011\, United States
CATEGORIES:Colorado Auctions
END:VEVENT
BEGIN:VEVENT
DTSTART;TZID=America/Denver:20191204T110000
DTEND;TZID=America/Denver:20191204T110000
DTSTAMP:20260424T083758
CREATED:20191106T020116Z
LAST-MODIFIED:20191229T183936Z
UID:1537-1575457200-1575457200@storageauctionkings.com
SUMMARY:-CANCELLED- Mesa Ridge Self Storage
DESCRIPTION:Subject to change without notice.\n\n\n\n\n\n  \nNote: Storage Auction Kings provides the lock-cut and inventory service or this location. \nCome check it out and see what interesting things may be hiding in these units!
URL:https://storageauctionkings.com/event/mesa-ridge-self-storage/
LOCATION:Mesa Ridge Self Storage\, 671 Syracuse Street\, Colorado Springs\, CO\, 80911\, United States
CATEGORIES:Colorado Auctions
END:VEVENT
BEGIN:VEVENT
DTSTART;TZID=America/Denver:20191204T100000
DTEND;TZID=America/Denver:20191204T100000
DTSTAMP:20260424T083758
CREATED:20191106T015954Z
LAST-MODIFIED:20191229T183955Z
UID:1535-1575453600-1575453600@storageauctionkings.com
SUMMARY:-CANCELLED- East Woodmen Self Storage
DESCRIPTION:Subject to change without notice.\n\n\n\n\n\n  \nNote: Storage Auction Kings provides the lock-cut and inventory service or this location. \nYou’re sure to find something at this one!
URL:https://storageauctionkings.com/event/east-woodmen-self-storage/
LOCATION:East Woodmen Self Storage\, 7115\, Forest Meadows Ave\, Colorado Springs\, CO\, 80908\, United States
CATEGORIES:Colorado Auctions
END:VEVENT
BEGIN:VEVENT
DTSTART;TZID=America/Denver:20191121T120000
DTEND;TZID=America/Denver:20191121T123000
DTSTAMP:20260424T083758
CREATED:20191106T021911Z
LAST-MODIFIED:20191229T181426Z
UID:1545-1574337600-1574339400@storageauctionkings.com
SUMMARY:All Storage Mini Storage - Fort Collins
DESCRIPTION:3 units as of 11/20/2019. Subject to change without notice. \nHere’s your chance to find that treasure. \nNote: Storage Auction Kings provides the lock-cut and inventory service for this location.
URL:https://storageauctionkings.com/event/all-storage-mini-storage-fort-collins/
LOCATION:All Storage Mini Storage\, 1800 N. Whitcomb\, Ft. Collins\, CO\, 80524\, United States
CATEGORIES:Colorado Auctions
END:VEVENT
BEGIN:VEVENT
DTSTART;TZID=America/Denver:20191114T133000
DTEND;TZID=America/Denver:20191114T133000
DTSTAMP:20260424T083758
CREATED:20191101T225631Z
LAST-MODIFIED:20191229T184118Z
UID:1501-1573738200-1573738200@storageauctionkings.com
SUMMARY:-CANCELLED- Cowen Self Storage
DESCRIPTION:Subject to change without notice.\n\n\n\n\n\nAmazing Treasures Await!
URL:https://storageauctionkings.com/event/cowen-self-storage/
LOCATION:Cowen Self Storage\, 140 E. Garden of the Gods\, Colorado Springs\, CO\, 80907\, United States
CATEGORIES:Colorado Auctions
END:VEVENT
BEGIN:VEVENT
DTSTART;TZID=America/Denver:20191114T103000
DTEND;TZID=America/Denver:20191114T103000
DTSTAMP:20260424T083758
CREATED:20191101T223104Z
LAST-MODIFIED:20191229T184102Z
UID:1493-1573727400-1573727400@storageauctionkings.com
SUMMARY:-CANCELLED- AAA Platte Self Storage - Colorado Springs
DESCRIPTION:Subject to change without notice.\n\n\n\n\n\nCome join us!!
URL:https://storageauctionkings.com/event/aaa-platte-self-storage-colorado-springs/
LOCATION:AAA Platte Self Storage\, 4510 Edison Ave. Ste 100\, Colorado Springs\, CO\, 80915\, United States
CATEGORIES:Colorado Auctions
END:VEVENT
BEGIN:VEVENT
DTSTART;TZID=America/Denver:20191019T080000
DTEND;TZID=America/Denver:20191019T110000
DTSTAMP:20260424T083758
CREATED:20190328T014354Z
LAST-MODIFIED:20191229T183509Z
UID:719-1571472000-1571482800@storageauctionkings.com
SUMMARY:PODS Longmont
DESCRIPTION:4 units as of 3/26/2019\n\n\n\n\n\nCome see what you can find! \nNote: Storage Auction Kings provides the lock-cut and inventory service for this location. \nSubject to change without notice
URL:https://storageauctionkings.com/event/719/
LOCATION:PODS Longmont\, 1925 Pike Road\, Longmont\, CO\, 80501\, United States
CATEGORIES:Colorado Auctions
ATTACH;FMTTYPE=image/jpeg:https://storageauctionkings.com/wp-content/uploads/2019/03/podslogo.jpg
ORGANIZER;CN="Tessa Palombo":MAILTO:tessa@storageauctionkings.com
END:VEVENT
END:VCALENDAR