BEGIN:VCALENDAR
VERSION:2.0
PRODID:-//Storage Auction Kings - ECPv6.15.20//NONSGML v1.0//EN
CALSCALE:GREGORIAN
METHOD:PUBLISH
X-ORIGINAL-URL:https://storageauctionkings.com
X-WR-CALDESC:Events for Storage Auction Kings
REFRESH-INTERVAL;VALUE=DURATION:PT1H
X-Robots-Tag:noindex
X-PUBLISHED-TTL:PT1H
BEGIN:VTIMEZONE
TZID:America/Denver
BEGIN:DAYLIGHT
TZOFFSETFROM:-0700
TZOFFSETTO:-0600
TZNAME:MDT
DTSTART:20230312T090000
END:DAYLIGHT
BEGIN:STANDARD
TZOFFSETFROM:-0600
TZOFFSETTO:-0700
TZNAME:MST
DTSTART:20231105T080000
END:STANDARD
BEGIN:DAYLIGHT
TZOFFSETFROM:-0700
TZOFFSETTO:-0600
TZNAME:MDT
DTSTART:20240310T090000
END:DAYLIGHT
BEGIN:STANDARD
TZOFFSETFROM:-0600
TZOFFSETTO:-0700
TZNAME:MST
DTSTART:20241103T080000
END:STANDARD
BEGIN:DAYLIGHT
TZOFFSETFROM:-0700
TZOFFSETTO:-0600
TZNAME:MDT
DTSTART:20250309T090000
END:DAYLIGHT
BEGIN:STANDARD
TZOFFSETFROM:-0600
TZOFFSETTO:-0700
TZNAME:MST
DTSTART:20251102T080000
END:STANDARD
BEGIN:DAYLIGHT
TZOFFSETFROM:-0700
TZOFFSETTO:-0600
TZNAME:MDT
DTSTART:20260308T090000
END:DAYLIGHT
BEGIN:STANDARD
TZOFFSETFROM:-0600
TZOFFSETTO:-0700
TZNAME:MST
DTSTART:20261101T080000
END:STANDARD
BEGIN:DAYLIGHT
TZOFFSETFROM:-0700
TZOFFSETTO:-0600
TZNAME:MDT
DTSTART:20270314T090000
END:DAYLIGHT
BEGIN:STANDARD
TZOFFSETFROM:-0600
TZOFFSETTO:-0700
TZNAME:MST
DTSTART:20271107T080000
END:STANDARD
END:VTIMEZONE
BEGIN:VEVENT
DTSTART;TZID=America/Denver:20260114T103000
DTEND;TZID=America/Denver:20260114T103000
DTSTAMP:20260423T172347
CREATED:20250712T021909Z
LAST-MODIFIED:20260113T185827Z
UID:7621-1768386600-1768386600@storageauctionkings.com
SUMMARY:U-Haul Center Buckley
DESCRIPTION:9 units as of 1/13/2026. Subject to change without notice.\n\n\n\n\nYou’re sure to find something at this one! \n\n\n\n \n 
URL:https://storageauctionkings.com/event/u-haul-center-buckley/
LOCATION:U-Haul Ctr 25\, Buckley Road\, 750 S. Buckley Rd.\, Aurora\, CO\, 80017\, United States
CATEGORIES:Colorado Auctions
END:VEVENT
BEGIN:VEVENT
DTSTART;TZID=America/Denver:20260114T100000
DTEND;TZID=America/Denver:20260114T100000
DTSTAMP:20260423T172347
CREATED:20250712T021801Z
LAST-MODIFIED:20260113T185656Z
UID:7619-1768384800-1768384800@storageauctionkings.com
SUMMARY:U-Haul Self Storage - Chambers & I-70
DESCRIPTION:11 units as of 1/13/2026. Subject to change without notice. \n\n\n\n\nYou are sure to find something! \n\n\n\n \n 
URL:https://storageauctionkings.com/event/u-haul-self-storage-chambers-i-70-3/
LOCATION:U-Haul Ctr\, E. 40th (Chambers)\, 15250 E. 40th Ave\, Denver\, CO\, 80239\, United States
CATEGORIES:Colorado Auctions
END:VEVENT
BEGIN:VEVENT
DTSTART;TZID=America/Denver:20260114T090000
DTEND;TZID=America/Denver:20260114T090000
DTSTAMP:20260423T172347
CREATED:20250712T024601Z
LAST-MODIFIED:20260112T232805Z
UID:7628-1768381200-1768381200@storageauctionkings.com
SUMMARY:U-Haul York St.
DESCRIPTION: 2 units as of 1/12/2026.  Subject to change without notice.\n\n\n\nYou are sure to find something… \n\n\n\n \n 
URL:https://storageauctionkings.com/event/u-haul-york-st-3/
LOCATION:U-Haul Ctr\, York\, 7540 York Street\, Denver\, CO\, 80229\, United States
CATEGORIES:Colorado Auctions
END:VEVENT
BEGIN:VEVENT
DTSTART;TZID=America/Denver:20251212T143000
DTEND;TZID=America/Denver:20251212T143000
DTSTAMP:20260423T172347
CREATED:20240219T215838Z
LAST-MODIFIED:20251207T211003Z
UID:6811-1765549800-1765549800@storageauctionkings.com
SUMMARY:8th Street Self Storage
DESCRIPTION:10 units as of 12/7/2025.  Subject to change without notice.\n\n\n\n\n\nYou never know what treasure you will find! \n\n\n\n 
URL:https://storageauctionkings.com/event/8th-street-self-storage/
LOCATION:8th Street Storage\, 865 West Moreno Ave.\, Colorado Springs\, CO\, 80905\, United States
CATEGORIES:Colorado Auctions
END:VEVENT
BEGIN:VEVENT
DTSTART;TZID=America/Denver:20251211T120000
DTEND;TZID=America/Denver:20251211T120000
DTSTAMP:20260423T172347
CREATED:20250512T203038Z
LAST-MODIFIED:20251206T231929Z
UID:7537-1765454400-1765454400@storageauctionkings.com
SUMMARY:U-Haul Self Storage - Cedar Ave
DESCRIPTION:Subject to change without notice. \nCome and join the fun!
URL:https://storageauctionkings.com/event/u-haul-self-storage-cedar-ave/
LOCATION:U-Haul W. Cedar\, 12300 W Cedar Drive\, Lakewood\, CO\, 80228\, United States
CATEGORIES:Colorado Auctions
END:VEVENT
BEGIN:VEVENT
DTSTART;TZID=America/Denver:20251208T090000
DTEND;TZID=America/Denver:20251208T090000
DTSTAMP:20260423T172347
CREATED:20250711T232621Z
LAST-MODIFIED:20251207T202417Z
UID:7600-1765184400-1765184400@storageauctionkings.com
SUMMARY:U-Haul Colorado Blvd.
DESCRIPTION:14 units as of 12/7/2025.  Subject to change without notice. \nYou are sure to find something…\n\n\n \n 
URL:https://storageauctionkings.com/event/u-haul-colorado-blvd/
LOCATION:U-Haul Ctr\, Colorado Blvd.\, 4800 Colorado Blvd\, Denver\, CO\, 80216\, United States
CATEGORIES:Colorado Auctions
END:VEVENT
BEGIN:VEVENT
DTSTART;TZID=America/Denver:20251113T120000
DTEND;TZID=America/Denver:20251113T120000
DTSTAMP:20260423T172347
CREATED:20220906T212801Z
LAST-MODIFIED:20251109T190307Z
UID:5822-1763035200-1763035200@storageauctionkings.com
SUMMARY:Dominoe Properties - DO NOT MISS!
DESCRIPTION:Snowplow attachments\, salt spreaders and stand up mowers! \nITEMS WILL BE AUCTIONED INDIVIDUALLY! \nVEHICLES PICTURED WILL NOT BE AUCTIONED. \nSubject to change without notice.
URL:https://storageauctionkings.com/event/dominoe-properties/
LOCATION:Dominoe Properties\, 9856 Motsenbocker Road\, Parker\, CO\, 80134\, United States
END:VEVENT
BEGIN:VEVENT
DTSTART;TZID=America/Denver:20251110T143000
DTEND;TZID=America/Denver:20251110T143000
DTSTAMP:20260423T172347
CREATED:20250507T173127Z
LAST-MODIFIED:20251109T191939Z
UID:7514-1762785000-1762785000@storageauctionkings.com
SUMMARY:-CANCELLED- U-Haul Self Storage S. Santa Fe
DESCRIPTION:Come join us! Subject to change without notice. \n\n\n \n 
URL:https://storageauctionkings.com/event/u-haul-self-storage-s-santa-fe/
LOCATION:U-Haul Ctr 21\, Santa Fe Dr.\, 4849 S. Santa Fe\, Littleton\, CO\, 80120\, United States
CATEGORIES:Colorado Auctions
END:VEVENT
BEGIN:VEVENT
DTSTART;TZID=America/Denver:20251110T140000
DTEND;TZID=America/Denver:20251110T140000
DTSTAMP:20260423T172347
CREATED:20250507T172116Z
LAST-MODIFIED:20251109T191744Z
UID:7511-1762783200-1762783200@storageauctionkings.com
SUMMARY:U-Haul Self Storage Highlands Ranch
DESCRIPTION:2 units as of 11/9/2025.  Subject to change without notice.\n\n\n\n\n\nCome and have some fun!! \n\n\n\n  \n 
URL:https://storageauctionkings.com/event/u-haul-highlands-ranch/
LOCATION:U-Haul Ctr 35\, Highlands Ranch\, 1750 E. County Line Rd.\, Highlands Ranch\, CO\, 80126\, United States
CATEGORIES:Colorado Auctions
ORGANIZER;CN="Tessa Palombo":MAILTO:tessa@storageauctionkings.com
END:VEVENT
BEGIN:VEVENT
DTSTART;TZID=America/Denver:20251016T090000
DTEND;TZID=America/Denver:20251016T090000
DTSTAMP:20260423T172347
CREATED:20200804T165450Z
LAST-MODIFIED:20251012T202321Z
UID:4053-1760605200-1760605200@storageauctionkings.com
SUMMARY:Crestline Self Storage
DESCRIPTION:14 units as of 10/12/2025.  Subject to change without notice.\n\n\n\n\n\nAmazing Treasures Await! \nNote: Storage Auction Kings provides the lock-cut and inventory service for this location.  Click for lock cut and inventory pictures.  \n\n\n\n 
URL:https://storageauctionkings.com/event/crestline-self-storage/
LOCATION:Crestline Self Storage\, 7330 Brighton Blvd.\, Commerce City\, CO\, 80022\, United States
CATEGORIES:Colorado Auctions
END:VEVENT
BEGIN:VEVENT
DTSTART;TZID=America/Denver:20251013T110000
DTEND;TZID=America/Denver:20251013T110000
DTSTAMP:20260423T172347
CREATED:20231028T142923Z
LAST-MODIFIED:20251012T190248Z
UID:6631-1760353200-1760353200@storageauctionkings.com
SUMMARY:U-Haul Colorado Blvd.
DESCRIPTION:12 units as of 10/12/2025.  Subject to change without notice. \nYou are sure to find something…\n\n\n \n 
URL:https://storageauctionkings.com/event/u-haul-center-abilene-2/
LOCATION:U-Haul Ctr\, Colorado Blvd.\, 4800 Colorado Blvd\, Denver\, CO\, 80216\, United States
CATEGORIES:Colorado Auctions
END:VEVENT
BEGIN:VEVENT
DTSTART;TZID=America/Denver:20250910T113000
DTEND;TZID=America/Denver:20250910T113000
DTSTAMP:20260423T172347
CREATED:20231028T141040Z
LAST-MODIFIED:20250909T140921Z
UID:6623-1757503800-1757503800@storageauctionkings.com
SUMMARY:-CANCELLED- Greathouse Self Storage
DESCRIPTION:Subject to change without notice. \n \n\n\n\n\n\nCome join us! \n\n\n\n \n \n 
URL:https://storageauctionkings.com/event/u-haul-self-storage-loveland/
LOCATION:Greathouse Storage – Johnstown\, 7139 Co Rd 50\, Johnstown\, CO\, 80534
CATEGORIES:Colorado Auctions
END:VEVENT
BEGIN:VEVENT
DTSTART;TZID=America/Denver:20250815T163000
DTEND;TZID=America/Denver:20250815T163000
DTSTAMP:20260423T172347
CREATED:20210626T205820Z
LAST-MODIFIED:20250815T142231Z
UID:4940-1755275400-1755275400@storageauctionkings.com
SUMMARY:-CANCELLED- Knob Hill Self Storage - Platte Location
DESCRIPTION:1 unit as of 8/9/2025.  Subject to change without notice.\n\n\n\n\n\n\nAmazing Treasures Await! \nNote: Storage Auction Kings provides the lock-cut and inventory service for this location.  Click for lock cut and inventory pictures. 
URL:https://storageauctionkings.com/event/knob-hill-self-storage-platte-location/
LOCATION:Knob Hill Storage\, LLC\, 1917 East Platte Ave.\, Colorado Springs\, CO\, 80903\, United States
CATEGORIES:Colorado Auctions
END:VEVENT
BEGIN:VEVENT
DTSTART;TZID=America/Denver:20250815T160000
DTEND;TZID=America/Denver:20250815T160000
DTSTAMP:20260423T172347
CREATED:20210626T210344Z
LAST-MODIFIED:20250809T195243Z
UID:4942-1755273600-1755273600@storageauctionkings.com
SUMMARY:Knob Hill Storage - Costilla Location
DESCRIPTION:  \n\n2 units as of 8/9/2025.   Subject to change without notice. \n\n\n\n\nNote: Storage Auction Kings provides the lock-cut and inventory service for this location. \nAmazing Treasures Await!
URL:https://storageauctionkings.com/event/knob-hill-storage-costilla-location/
LOCATION:Knob Hill Storage – Costilla\, 721 East Costilla\, Colorado Springs\, CO\, 80903\, United States
CATEGORIES:Colorado Auctions
END:VEVENT
BEGIN:VEVENT
DTSTART;TZID=America/Denver:20250724T130000
DTEND;TZID=America/Denver:20250724T130000
DTSTAMP:20260423T172347
CREATED:20231028T141755Z
LAST-MODIFIED:20250723T143029Z
UID:6625-1753362000-1753362000@storageauctionkings.com
SUMMARY:U-Haul Self Storage Longmont
DESCRIPTION:4 units as of 7/23/2025.  Subject to change without notice.\n\n\n\n\n\nCome join us! \n\n\n\n \n 
URL:https://storageauctionkings.com/event/u-haul-self-storage-longmont/
LOCATION:U-Haul Longmont\, 3885 Highland Drive\, Longmont\, CO\, 80504
CATEGORIES:Colorado Auctions
END:VEVENT
BEGIN:VEVENT
DTSTART;TZID=America/Denver:20250715T110000
DTEND;TZID=America/Denver:20250715T110000
DTSTAMP:20260423T172347
CREATED:20231028T142725Z
LAST-MODIFIED:20250714T150204Z
UID:6629-1752577200-1752577200@storageauctionkings.com
SUMMARY:U-Haul York St.
DESCRIPTION:8 units as of 7/13/2025.  Subject to change without notice.\n\n\n\n\nYou are sure to find something… \n\n\n\n \n 
URL:https://storageauctionkings.com/event/u-haul-york-st/
LOCATION:U-Haul Ctr\, York\, 7540 York Street\, Denver\, CO\, 80229\, United States
CATEGORIES:Colorado Auctions
END:VEVENT
BEGIN:VEVENT
DTSTART;TZID=America/Denver:20250611T133000
DTEND;TZID=America/Denver:20250611T143000
DTSTAMP:20260423T172347
CREATED:20230430T152611Z
LAST-MODIFIED:20250609T105758Z
UID:6287-1749648600-1749652200@storageauctionkings.com
SUMMARY:All Valley Storage - Breckenridge
DESCRIPTION:8 units as of 6/9/2025. Subject to change without notice. \n 
URL:https://storageauctionkings.com/event/all-valley-storage-breckenridge/
LOCATION:All Valley Storage – Breckenridge\, 0140 Co Rd 450\, Breckenridge\, 80424\, United States
END:VEVENT
BEGIN:VEVENT
DTSTART;TZID=America/Denver:20250611T130000
DTEND;TZID=America/Denver:20250611T133000
DTSTAMP:20260423T172347
CREATED:20230430T152439Z
LAST-MODIFIED:20250609T105842Z
UID:6285-1749646800-1749648600@storageauctionkings.com
SUMMARY:All Valley Storage - Frisco
DESCRIPTION:7 units as of 6/9/2025. Subject to change without notice.
URL:https://storageauctionkings.com/event/all-valley-storage-frisco/
LOCATION:All Valley Storage\, 675 Ten Mile Dr.\, Frisco\, CO\, 80443\, United States
END:VEVENT
BEGIN:VEVENT
DTSTART;TZID=America/Denver:20250611T120000
DTEND;TZID=America/Denver:20250611T120000
DTSTAMP:20260423T172347
CREATED:20230430T152316Z
LAST-MODIFIED:20250609T105940Z
UID:6283-1749643200-1749643200@storageauctionkings.com
SUMMARY:All Valley Storage - Silverthorne
DESCRIPTION:7 units as of 6/9/2025.  Subject to change without notice. \n 
URL:https://storageauctionkings.com/event/all-valley-storage-silverthorne/
LOCATION:All Valley Storage – Silverthorne\, 657 Brian Ave\, Silverthorne\, CO\, 80498\, United States
END:VEVENT
BEGIN:VEVENT
DTSTART;TZID=America/Denver:20250611T090000
DTEND;TZID=America/Denver:20250611T090000
DTSTAMP:20260423T172347
CREATED:20230311T223509Z
LAST-MODIFIED:20250609T110156Z
UID:6174-1749632400-1749632400@storageauctionkings.com
SUMMARY:119 Self Storage - Longmont
DESCRIPTION:15 units as of 6/9/2025.  Subject to change without notice. \nCome see what you can find! \nNote: Storage Auction Kings provides the lock-cut and inventory service for this location.
URL:https://storageauctionkings.com/event/119-self-storage/
LOCATION:119 Self Storage\, 1447 Vista View Drive\, Longmont\, CO\, 80504\, United States
CATEGORIES:Colorado Auctions
END:VEVENT
BEGIN:VEVENT
DTSTART;TZID=America/Denver:20250507T120000
DTEND;TZID=America/Denver:20250507T120000
DTSTAMP:20260423T172347
CREATED:20230128T150143Z
LAST-MODIFIED:20250504T150107Z
UID:6070-1746619200-1746619200@storageauctionkings.com
SUMMARY:C & G Self Storage - Greeley
DESCRIPTION:6 units as of 5/4/2025.  Subject to change without notice.
URL:https://storageauctionkings.com/event/c-g-self-storage-greeley/
LOCATION:C&G Self Storage Greeley\, 1261 95th Ave\, Greeley\, CO\, 80634
END:VEVENT
BEGIN:VEVENT
DTSTART;TZID=America/Denver:20250507T110000
DTEND;TZID=America/Denver:20250507T110000
DTSTAMP:20260423T172347
CREATED:20210716T224039Z
LAST-MODIFIED:20250504T150448Z
UID:5004-1746615600-1746615600@storageauctionkings.com
SUMMARY:Safe N Secure Storage - Greeley
DESCRIPTION:6 units as of 5/4/2025.   Subject to change without notice. \nCome see what you can find!
URL:https://storageauctionkings.com/event/a-affordable-secure-storage/
LOCATION:Safe and Secure Self Storage\, 1015 3rd Street\, Greeley\, CO\, 80631\, United States
CATEGORIES:Colorado Auctions
END:VEVENT
BEGIN:VEVENT
DTSTART;TZID=America/Denver:20250506T140000
DTEND;TZID=America/Denver:20250506T140000
DTSTAMP:20260423T172347
CREATED:20240311T161459Z
LAST-MODIFIED:20250504T143747Z
UID:6875-1746540000-1746540000@storageauctionkings.com
SUMMARY:-CANCELLED- Brighton Security Storage
DESCRIPTION:Subject to change without notice. \nCome and check out this location! \nNote: Storage Auction Kings provides the lock-cut and inventory service for this location. \n\n\n\n \n \n 
URL:https://storageauctionkings.com/event/brighton-security-storage/
LOCATION:Brighton Security Storage\, 1111 Fulton Ave\, Brighton\, 80601\, United States
CATEGORIES:Colorado Auctions
END:VEVENT
BEGIN:VEVENT
DTSTART;TZID=America/Denver:20250506T133000
DTEND;TZID=America/Denver:20250506T133000
DTSTAMP:20260423T172347
CREATED:20191101T220605Z
LAST-MODIFIED:20250504T145116Z
UID:1472-1746538200-1746538200@storageauctionkings.com
SUMMARY:Wadsworth Self Storage
DESCRIPTION:6 units as of 5/4/2025.   Subject to change without notice.\n\n\n\n\n\nCome and have some fun!!
URL:https://storageauctionkings.com/event/wadsworth-self-storage/
LOCATION:Wadsworth Self Storage\, 11650 Wadsworth Blvd.\, Broomfield\, CO\, 80020\, United States
CATEGORIES:Colorado Auctions
END:VEVENT
BEGIN:VEVENT
DTSTART;TZID=America/Denver:20250404T140000
DTEND;TZID=America/Denver:20250404T140000
DTSTAMP:20260423T172347
CREATED:20191101T223318Z
LAST-MODIFIED:20250404T175926Z
UID:1495-1743775200-1743775200@storageauctionkings.com
SUMMARY:-CANCELLED- Colorado Springs Storage Central
DESCRIPTION:Subject to change without notice.\n\n\n\n\n\n\nAmazing Treasures Await! \nNote: Storage Auction Kings provides the lock-cut and inventory service for this location. \n\n\n\n 
URL:https://storageauctionkings.com/event/colorado-springs-storage-central/
LOCATION:Colorado Springs Storage Central\, 3132 Mallard Drive\, Colorado Springs\, CO\, 80910\, United States
CATEGORIES:Colorado Auctions
END:VEVENT
BEGIN:VEVENT
DTSTART;TZID=America/Denver:20250404T120000
DTEND;TZID=America/Denver:20250404T120000
DTSTAMP:20260423T172347
CREATED:20220508T160026Z
LAST-MODIFIED:20250404T175821Z
UID:5556-1743768000-1743768000@storageauctionkings.com
SUMMARY:-CANCELLED- Colorado Springs Storage South
DESCRIPTION: Subject to change without notice.\n\n\n\n\n\n\nAmazing Treasures Await! \nNote: Storage Auction Kings provides the lock-cut and inventory service for this location.  Click for lock cut and inventory pictures.  \n\n\n\n 
URL:https://storageauctionkings.com/event/colorado-springs-storage-south-2/
LOCATION:Colorado Springs Storage South\, 1625 Lashelle Way\, Colorado Springs\, CO\, 80906\, United States
CATEGORIES:Colorado Auctions
END:VEVENT
BEGIN:VEVENT
DTSTART;TZID=America/Denver:20250403T090000
DTEND;TZID=America/Denver:20250403T090000
DTSTAMP:20260423T172347
CREATED:20240118T184633Z
LAST-MODIFIED:20250402T225616Z
UID:6783-1743670800-1743670800@storageauctionkings.com
SUMMARY:-CANCELLED- U-Haul Center Abilene
DESCRIPTION:Subject to change without notice. \n\n\nYou are sure to find something…\n\n\n \n 
URL:https://storageauctionkings.com/event/u-haul-center-abilene-4/
LOCATION:U-Haul Ctr\, Abilene\, 2150 S. Abilene Street\, Aurora\, CO\, 80014\, United States
CATEGORIES:Colorado Auctions
END:VEVENT
BEGIN:VEVENT
DTSTART;TZID=America/Denver:20250311T150000
DTEND;TZID=America/Denver:20250311T150000
DTSTAMP:20260423T172347
CREATED:20240311T161732Z
LAST-MODIFIED:20250309T161645Z
UID:6878-1741705200-1741705200@storageauctionkings.com
SUMMARY:-CANCELLED- Lafayette Security Storage
DESCRIPTION:Subject to change without notice. \nCome see what you can find! \nNote: Storage Auction Kings provides the lock-cut and inventory service for this location. \n\n\n\n 
URL:https://storageauctionkings.com/event/lafayette-security-storage/
LOCATION:Lafayette Security Storage\, 520 Aspen Ridge Dr\, Lafayette\, CO\, 80026\, United States
CATEGORIES:Colorado Auctions
END:VEVENT
BEGIN:VEVENT
DTSTART;TZID=America/Denver:20241115T090000
DTEND;TZID=America/Denver:20241115T090000
DTSTAMP:20260423T172347
CREATED:20230918T134622Z
LAST-MODIFIED:20241115T130825Z
UID:6554-1731661200-1731661200@storageauctionkings.com
SUMMARY:U-Box of Aurora
DESCRIPTION:9 units as of 11/12/2024. Subject to change without notice.\nYou are sure to find something…
URL:https://storageauctionkings.com/event/u-box-of-aurora/
LOCATION:U-Box of Aurora\, 12601 E. 33rd Ave. Unit 108\, Aurora\, CO\, 80011
CATEGORIES:Colorado Auctions
END:VEVENT
BEGIN:VEVENT
DTSTART;TZID=America/Denver:20241111T100000
DTEND;TZID=America/Denver:20241111T100000
DTSTAMP:20260423T172347
CREATED:20241110T163149Z
LAST-MODIFIED:20241111T131822Z
UID:7204-1731319200-1731319200@storageauctionkings.com
SUMMARY:Eden's Moving and Storage
DESCRIPTION:32 units as of 11/09/2024.  Subject to change without notice. 
URL:https://storageauctionkings.com/event/edens-moving-and-storage/
LOCATION:Eden’s Moving Services\, 14800 E 35th Place #600\, Aurora\, CO\, 80011\, United States
END:VEVENT
END:VCALENDAR