BEGIN:VCALENDAR
VERSION:2.0
PRODID:-//Storage Auction Kings - ECPv6.15.20//NONSGML v1.0//EN
CALSCALE:GREGORIAN
METHOD:PUBLISH
X-WR-CALNAME:Storage Auction Kings
X-ORIGINAL-URL:https://storageauctionkings.com
X-WR-CALDESC:Events for Storage Auction Kings
REFRESH-INTERVAL;VALUE=DURATION:PT1H
X-Robots-Tag:noindex
X-PUBLISHED-TTL:PT1H
BEGIN:VTIMEZONE
TZID:America/Denver
BEGIN:DAYLIGHT
TZOFFSETFROM:-0700
TZOFFSETTO:-0600
TZNAME:MDT
DTSTART:20190310T090000
END:DAYLIGHT
BEGIN:STANDARD
TZOFFSETFROM:-0600
TZOFFSETTO:-0700
TZNAME:MST
DTSTART:20191103T080000
END:STANDARD
BEGIN:DAYLIGHT
TZOFFSETFROM:-0700
TZOFFSETTO:-0600
TZNAME:MDT
DTSTART:20200308T090000
END:DAYLIGHT
BEGIN:STANDARD
TZOFFSETFROM:-0600
TZOFFSETTO:-0700
TZNAME:MST
DTSTART:20201101T080000
END:STANDARD
BEGIN:DAYLIGHT
TZOFFSETFROM:-0700
TZOFFSETTO:-0600
TZNAME:MDT
DTSTART:20210314T090000
END:DAYLIGHT
BEGIN:STANDARD
TZOFFSETFROM:-0600
TZOFFSETTO:-0700
TZNAME:MST
DTSTART:20211107T080000
END:STANDARD
BEGIN:DAYLIGHT
TZOFFSETFROM:-0700
TZOFFSETTO:-0600
TZNAME:MDT
DTSTART:20220313T090000
END:DAYLIGHT
BEGIN:STANDARD
TZOFFSETFROM:-0600
TZOFFSETTO:-0700
TZNAME:MST
DTSTART:20221106T080000
END:STANDARD
END:VTIMEZONE
BEGIN:VEVENT
DTSTART;TZID=America/Denver:20211016T100000
DTEND;TZID=America/Denver:20211016T100000
DTSTAMP:20260424T064319
CREATED:20210919T131534Z
LAST-MODIFIED:20211015T161503Z
UID:5143-1634378400-1634378400@storageauctionkings.com
SUMMARY:Storage Star Self Storage -  Sheridan\, WY
DESCRIPTION:6 units as of 10/15/2021. Subject to change without notice. \n\n\n\nCome check it out and see what interesting things may be hiding in these units! \nNote: Storage Auction Kings provides the lock-cut and inventory service for this location.
URL:https://storageauctionkings.com/event/storage-star-self-storage-sheridan-wy/
LOCATION:Storage Star Self Storage- Sheridan\, WY\, 5211 Coffeen Ave.\, Sheridan\, WY\, 82801\, United States
CATEGORIES:Colorado Auctions
END:VEVENT
BEGIN:VEVENT
DTSTART;TZID=America/Denver:20210917T110000
DTEND;TZID=America/Denver:20210917T110000
DTSTAMP:20260424T064319
CREATED:20201015T152053Z
LAST-MODIFIED:20210916T211640Z
UID:4260-1631876400-1631876400@storageauctionkings.com
SUMMARY:Stor-Mor Midpoint
DESCRIPTION:4 units as of 9/16/2021. Subject to change without notice. \nCome join us!
URL:https://storageauctionkings.com/event/stor-mor-midpoint/
LOCATION:Stor-Mor Midpoint\, 2655 Midpoint Drive\, Fort Collins\, CO\, 80525
END:VEVENT
BEGIN:VEVENT
DTSTART;TZID=America/Denver:20210917T100000
DTEND;TZID=America/Denver:20210917T100000
DTSTAMP:20260424T064319
CREATED:20201015T151932Z
LAST-MODIFIED:20210916T211731Z
UID:4258-1631872800-1631872800@storageauctionkings.com
SUMMARY:Stor-Mor Lincoln
DESCRIPTION:10 unit as of 9/16/2021. Subject to change without notice. \nYou never know what may be hiding here! 
URL:https://storageauctionkings.com/event/stor-mor-lincoln/
LOCATION:Stor-Mor Lincoln\, 1000 E. Lincoln Ave\,\, Fort Collins\, CO\, 80524
END:VEVENT
BEGIN:VEVENT
DTSTART;TZID=America/Denver:20210916T160000
DTEND;TZID=America/Denver:20210916T160000
DTSTAMP:20260424T064319
CREATED:20201015T142050Z
LAST-MODIFIED:20210916T011506Z
UID:4254-1631808000-1631808000@storageauctionkings.com
SUMMARY:Stor-Mor Littleton
DESCRIPTION:3 units as of 9/15/2021. Subject to change without notice.  \nCome join us!
URL:https://storageauctionkings.com/event/stor-mor-littleton/
LOCATION:Stor-Mor Littleton\, 8145 W. Grand Ave.\, Littleton\, CO\, 80123\, United States
CATEGORIES:Colorado Auctions
END:VEVENT
BEGIN:VEVENT
DTSTART;TZID=America/Denver:20210916T150000
DTEND;TZID=America/Denver:20210916T150000
DTSTAMP:20260424T064319
CREATED:20200113T171917Z
LAST-MODIFIED:20210916T011618Z
UID:2950-1631804400-1631804400@storageauctionkings.com
SUMMARY:Dove Valley Self Storage
DESCRIPTION:3 units as of 9/15/2021. Subject to change without notice. \nCome and check out this location! \nNote: Storage Auction Kings provides the lock-cut and inventory service for this location. \n 
URL:https://storageauctionkings.com/event/dove-valley-self-storage/
LOCATION:Dove Valley Self Storage\, 14200 E. Otero Ave.\, Englewood\, CO\, 80112\, United States
CATEGORIES:Colorado Auctions
END:VEVENT
BEGIN:VEVENT
DTSTART;TZID=America/Denver:20210618T130000
DTEND;TZID=America/Denver:20210618T130000
DTSTAMP:20260424T064319
CREATED:20210609T224721Z
LAST-MODIFIED:20210609T231454Z
UID:4882-1624021200-1624021200@storageauctionkings.com
SUMMARY:U-Haul Cheyenne
DESCRIPTION:NEW LOCATION! \n19 units as of 6/9/2021. Subject to change without notice. \nCome see what treasures you can find! \n  \n 
URL:https://storageauctionkings.com/event/u-haul-cheyenne/
LOCATION:U-Haul Cheyenne\, 6100 Countryside Ave.\, Cheyenne\, WY\, United States
END:VEVENT
BEGIN:VEVENT
DTSTART;TZID=America/Denver:20210618T093000
DTEND;TZID=America/Denver:20210618T093000
DTSTAMP:20260424T064319
CREATED:20210609T230438Z
LAST-MODIFIED:20210609T230438Z
UID:4888-1624008600-1624008600@storageauctionkings.com
SUMMARY:U-Haul E 2nd St. (CASPER\, WYOMING)
DESCRIPTION:BRAND NEW LOCATION! \n5 units as of 6/9/2021.  Subject to change without notice.
URL:https://storageauctionkings.com/event/u-haul-e-2nd-st-casper-wyoming/
LOCATION:U-Haul E. 2nd\, 4000 E 2nd St.\, Casper\, WY\, 82609\, United States
END:VEVENT
BEGIN:VEVENT
DTSTART;TZID=America/Denver:20210618T090000
DTEND;TZID=America/Denver:20210618T090000
DTSTAMP:20260424T064319
CREATED:20210609T230059Z
LAST-MODIFIED:20210609T231538Z
UID:4885-1624006800-1624006800@storageauctionkings.com
SUMMARY:U-Haul Bryan Stock Trail (CASPER\, WYOMING)
DESCRIPTION:BRAND NEW LOCATION! \n7 units as of 6/9/2021.  Subject to change. \n 
URL:https://storageauctionkings.com/event/u-haul-bryan-stock-trail-casper-wy/
LOCATION:U-Haul Bryan Stock\, 725 Bryan Stock Trail\, Casper\, WY\, 82601\, United States
END:VEVENT
BEGIN:VEVENT
DTSTART;TZID=America/Denver:20210511T160000
DTEND;TZID=America/Denver:20210511T160000
DTSTAMP:20260424T064319
CREATED:20200113T171302Z
LAST-MODIFIED:20210508T131428Z
UID:2948-1620748800-1620748800@storageauctionkings.com
SUMMARY:Grant Self Storage
DESCRIPTION:1 unit as of 5/8/2021. Subject to change without notice. \nCome and check out this location! \nNote: Storage Auction Kings provides the lock-cut and inventory service for this location.
URL:https://storageauctionkings.com/event/grant-self-storage/
LOCATION:Grant Self Storage\, 19355 Goddard Ranch Ct.\, Morrison\, CO\, 80465\, United States
CATEGORIES:Colorado Auctions
END:VEVENT
BEGIN:VEVENT
DTSTART;TZID=America/Denver:20210415T143000
DTEND;TZID=America/Denver:20210415T143000
DTSTAMP:20260424T064319
CREATED:20210322T184429Z
LAST-MODIFIED:20210411T000253Z
UID:4726-1618497000-1618497000@storageauctionkings.com
SUMMARY:A Arrow Mini Storage
DESCRIPTION:14 units as of 4/10/2021. Subject to change without notice.
URL:https://storageauctionkings.com/event/a-arrow-mini-storage/
LOCATION:A Arrow Mini Storage\, 1871 Park Street\, Castle Rock\, CO\, 80109\, United States
END:VEVENT
BEGIN:VEVENT
DTSTART;TZID=America/Denver:20210415T120000
DTEND;TZID=America/Denver:20210415T120000
DTSTAMP:20260424T064319
CREATED:20200610T132616Z
LAST-MODIFIED:20210409T112208Z
UID:3836-1618488000-1618488000@storageauctionkings.com
SUMMARY:American Self Storage
DESCRIPTION:3 units as of 4/09/2021. Subject to change without notice. \nDon’t miss this one! It’s sure to be fun!
URL:https://storageauctionkings.com/event/american-self-storage/
LOCATION:American Storage\, 6740 Vincent Drive\, Colorado Springs\, CO\, 80918\, United States
CATEGORIES:Colorado Auctions
END:VEVENT
BEGIN:VEVENT
DTSTART;TZID=America/Denver:20210212T150000
DTEND;TZID=America/Denver:20210212T150000
DTSTAMP:20260424T064319
CREATED:20210130T172122Z
LAST-MODIFIED:20210212T174724Z
UID:4591-1613142000-1613142000@storageauctionkings.com
SUMMARY:Metro Moving and Storage - 40+ units!!!
DESCRIPTION:40+ units!!!!!!!!!! 25 units belong to the same owner. 5×8 Wooden Box Containers!!!!!! \nSubject to change without notice.
URL:https://storageauctionkings.com/event/metro-moving-and-storage/
LOCATION:Metro Moving and Storage\, 6001 S. Prince St.\, Littleton\, CO\, 80120\, United States
END:VEVENT
BEGIN:VEVENT
DTSTART;TZID=America/Denver:20210211T090000
DTEND;TZID=America/Denver:20210211T090000
DTSTAMP:20260424T064319
CREATED:20201015T141852Z
LAST-MODIFIED:20210211T004718Z
UID:4252-1613034000-1613034000@storageauctionkings.com
SUMMARY:Stor-Mor Colorado Springs
DESCRIPTION: 4 units! Subject to change without notice. \nCome out and see what treasures you can find hiding! \n 
URL:https://storageauctionkings.com/event/stor-mor-colorado-springs/
LOCATION:Stor-Mor Colorado Springs\, 4825 E Platte Ave\, Colorado Springs\, CO\, 80915\, United States
END:VEVENT
BEGIN:VEVENT
DTSTART;TZID=America/Denver:20201211T130000
DTEND;TZID=America/Denver:20201211T130000
DTSTAMP:20260424T064319
CREATED:20191106T022102Z
LAST-MODIFIED:20201210T140643Z
UID:1547-1607691600-1607691600@storageauctionkings.com
SUMMARY:Colonial Self Storage: 1328 E Mulberry St\, Fort Collins\, CO 80524 2 units! Subject to change without notice.
DESCRIPTION:Subject to change without notice. \nCome check it out and see what interesting things may be hiding in these units! \nNote: Storage Auction Kings provides the lock-cut and inventory service for this location.
URL:https://storageauctionkings.com/event/colonial-self-storage/
LOCATION:Colonial Self Storage\, 1328 E. Mulberry\, Ft. Collins\, CO\, 80524\, United States
CATEGORIES:Colorado Auctions
END:VEVENT
BEGIN:VEVENT
DTSTART;TZID=America/Denver:20201209T110000
DTEND;TZID=America/Denver:20201209T110000
DTSTAMP:20260424T064319
CREATED:20200508T222738Z
LAST-MODIFIED:20201209T173233Z
UID:3657-1607511600-1607511600@storageauctionkings.com
SUMMARY:Berthoud Lake Storage 217 W Co Rd 10 E\, Berthoud\, CO 80513 4 units! Subject to change without notice.
DESCRIPTION:4 units as of 12/7/2020. Subject to change without notice. \nCome check it out and see what interesting things may be hiding in these units! \nNote: Storage Auction Kings provides the lock-cut and inventory service for this location.
URL:https://storageauctionkings.com/event/berthoud-lake-storage/
LOCATION:Berthoud Lake Storage\, 217 W Co Rd 10E\, Berthoud\, CO\, 80513\, United States
CATEGORIES:Colorado Auctions
END:VEVENT
BEGIN:VEVENT
DTSTART;TZID=America/Denver:20201109T100000
DTEND;TZID=America/Denver:20201109T100000
DTSTAMP:20260424T064319
CREATED:20200209T155036Z
LAST-MODIFIED:20201107T162130Z
UID:3203-1604916000-1604916000@storageauctionkings.com
SUMMARY:Stapleton Self Storage
DESCRIPTION:5 units as of 11/7/2020. Subject to change without notice. \nCome out and check it out! \nNote: Storage Auction Kings provides the lock-cut and inventory service for this location.
URL:https://storageauctionkings.com/event/stapleton-self-storage-4/
LOCATION:Stapleton Self Storage\, 9591 E. 22nd Ave.\, Aurora\, CO\, 80010\, United States
CATEGORIES:Colorado Auctions
END:VEVENT
BEGIN:VEVENT
DTSTART;TZID=America/Denver:20200922T130000
DTEND;TZID=America/Denver:20200922T130000
DTSTAMP:20260424T064319
CREATED:20200209T163507Z
LAST-MODIFIED:20200921T212105Z
UID:3236-1600779600-1600779600@storageauctionkings.com
SUMMARY:County Line Security Storage
DESCRIPTION:11 units as of 9/21/2020. Subject to change without notice. \nCome see what treasures are here!
URL:https://storageauctionkings.com/event/county-line-security-storage/
LOCATION:County Line Security Storage\, 850 Baseline Road\, Brighton\, CO\, 80601\, United States
CATEGORIES:Colorado Auctions
END:VEVENT
BEGIN:VEVENT
DTSTART;TZID=America/Denver:20200911T153000
DTEND;TZID=America/Denver:20200911T153000
DTSTAMP:20260424T064319
CREATED:20200118T165953Z
LAST-MODIFIED:20200910T215329Z
UID:3006-1599838200-1599838200@storageauctionkings.com
SUMMARY:Eagles Nest Storage
DESCRIPTION:6 units as of 9/10/2020. Subject to change without notice\n\n\n\n\n\n\nNote: Storage Auction Kings provides the lock-cut and inventory service for this location. \nWhat can we find here?
URL:https://storageauctionkings.com/event/eagles-nest-storage-3/
LOCATION:Eagles Nest Storage\, 1800 Delaware Pl.\, Longmont\, CO\, 80501\, United States
CATEGORIES:Colorado Auctions
END:VEVENT
BEGIN:VEVENT
DTSTART;TZID=America/Denver:20200911T150000
DTEND;TZID=America/Denver:20200911T150000
DTSTAMP:20260424T064319
CREATED:20191202T000601Z
LAST-MODIFIED:20200910T215504Z
UID:2329-1599836400-1599836400@storageauctionkings.com
SUMMARY:A Store and Lock
DESCRIPTION:2 units as of 9/10/2020.  Subject to change without notice\n\n\n\n\n\n\nNote: Storage Auction Kings provides the lock-cut and inventory service for this location. \nWhat can we find here?
URL:https://storageauctionkings.com/event/a-store-and-lock/
LOCATION:A Store & Lock\, 734 S. Lincoln St.\, Longmont\, CO\, 80501\, United States
CATEGORIES:Colorado Auctions
END:VEVENT
BEGIN:VEVENT
DTSTART;TZID=America/Denver:20200911T143000
DTEND;TZID=America/Denver:20200911T143000
DTSTAMP:20260424T064319
CREATED:20191202T000316Z
LAST-MODIFIED:20200909T164553Z
UID:2324-1599834600-1599834600@storageauctionkings.com
SUMMARY:-CANCELLED- Sunnyvale Self Storage
DESCRIPTION:Subject to change without notice\n\n\n\n\n\n\nNote: Storage Auction Kings provides the lock-cut and inventory service for this location. \nThis is the one you have been waiting for!
URL:https://storageauctionkings.com/event/sunnyvale-self-storage-2/
LOCATION:Sunnyvale Self Storage\, 820 Lashley Street\, Longmont\, CO\, 80504\, United States
CATEGORIES:Colorado Auctions
END:VEVENT
BEGIN:VEVENT
DTSTART;TZID=America/Denver:20200911T140000
DTEND;TZID=America/Denver:20200911T140000
DTSTAMP:20260424T064319
CREATED:20200118T165053Z
LAST-MODIFIED:20200804T164228Z
UID:3000-1599832800-1599832800@storageauctionkings.com
SUMMARY:Mountain View Self Storage
DESCRIPTION:Subject to change without notice.\n\n\n\n\n\n\nNote: Storage Auction Kings provides the lock-cut and inventory service for this location. \nThis is the one you have been waiting for!
URL:https://storageauctionkings.com/event/mountain-view-self-storage-3/
LOCATION:Mountain View Mini Wearhouse\, 440 Mountain View Ave\, Longmont\, CO\, 80501\, United States
CATEGORIES:Colorado Auctions
END:VEVENT
BEGIN:VEVENT
DTSTART;TZID=America/Denver:20200911T133000
DTEND;TZID=America/Denver:20200911T133000
DTSTAMP:20260424T064319
CREATED:20200508T215810Z
LAST-MODIFIED:20200910T221136Z
UID:3645-1599831000-1599831000@storageauctionkings.com
SUMMARY:A Better Mini Storage - Longmont
DESCRIPTION:3 units as of 9/10/2020. Subject to change without notice.\n\nNote: Storage Auction Kings provides the lock-cut and inventory service for this location.\n\n\n\n 
URL:https://storageauctionkings.com/event/a-better-mini-storage-longmont-4/
LOCATION:A Better Mini Storage\, 1545 Main Street\, Longmont\, CO\, 80501\, United States
CATEGORIES:Colorado Auctions
END:VEVENT
BEGIN:VEVENT
DTSTART;TZID=America/Denver:20200911T130000
DTEND;TZID=America/Denver:20200911T130000
DTSTAMP:20260424T064319
CREATED:20200508T215635Z
LAST-MODIFIED:20200910T221335Z
UID:3643-1599829200-1599829200@storageauctionkings.com
SUMMARY:Castle Keep Self Storage - Longmont
DESCRIPTION:1 unit as of 9/10/2020. Subject to change without notice.\n\nNote: Storage Auction Kings provides the lock-cut and inventory service for this location.\n\n\n\n 
URL:https://storageauctionkings.com/event/castle-keep-self-storage-longmont-3/
LOCATION:Castle Keep Storage\, 7579 Hygiene Rd.\, Longmont\, CO\, 80503\, United States
CATEGORIES:Colorado Auctions
END:VEVENT
BEGIN:VEVENT
DTSTART;TZID=America/Denver:20200723T103000
DTEND;TZID=America/Denver:20200723T103000
DTSTAMP:20260424T064319
CREATED:20191101T204522Z
LAST-MODIFIED:20200720T181756Z
UID:1451-1595500200-1595500200@storageauctionkings.com
SUMMARY:Chapel Hills Self Storage
DESCRIPTION:3 units as of 7/20/20. Subject to change without notice.\n\n\n\n\n\nCome check it out and see what interesting things may be hiding in these units! \nNote: Storage Auction Kings provides the lock-cut and inventory service for this location
URL:https://storageauctionkings.com/event/chapel-hills-self-storage/
LOCATION:Chapel Hills Self Storage\, 1408 Chapel Hills Drive\, Colorado Springs\, CO\, 80920\, United States
CATEGORIES:Colorado Auctions
END:VEVENT
BEGIN:VEVENT
DTSTART;TZID=America/Denver:20200723T100000
DTEND;TZID=America/Denver:20200723T100000
DTSTAMP:20260424T064319
CREATED:20200706T120034Z
LAST-MODIFIED:20200720T181003Z
UID:3901-1595498400-1595498400@storageauctionkings.com
SUMMARY:North Nevada Self Storage - Colorado Springs
DESCRIPTION:1 unit as of 7/20/20. Subject to change without notice.\n\n\n\n\n\nCome join us!!
URL:https://storageauctionkings.com/event/north-nevada-self-storage-colorado-springs/
LOCATION:North Nevada Self Storage\, 4215 N. Nevada\, Colorado Springs\, CO\, 80907\, United States
CATEGORIES:Colorado Auctions
END:VEVENT
BEGIN:VEVENT
DTSTART;TZID=America/Denver:20200721T120000
DTEND;TZID=America/Denver:20200721T120000
DTSTAMP:20260424T064319
CREATED:20200209T161507Z
LAST-MODIFIED:20200717T213409Z
UID:3217-1595332800-1595332800@storageauctionkings.com
SUMMARY:Thornton Self Storage
DESCRIPTION:4 units as of 7/17/2020. Subject to change without notice.\n\n\n\n\n\nDon’t miss this one!
URL:https://storageauctionkings.com/event/thornton-self-storage-2/
LOCATION:Thornton Self Storage\, 3685 E. 121st Ave.\, Thornton\, CO\, 80241\, United States
CATEGORIES:Colorado Auctions
END:VEVENT
BEGIN:VEVENT
DTSTART;TZID=America/Denver:20200720T120000
DTEND;TZID=America/Denver:20200720T120000
DTSTAMP:20260424T064319
CREATED:20200216T161037Z
LAST-MODIFIED:20200720T155955Z
UID:3379-1595246400-1595246400@storageauctionkings.com
SUMMARY:-CANCELLED ALL UNITS PAID OUT- Centerra Self Storage
DESCRIPTION:Subject to change without notice.\n\n\n\n\n\nCome check it out and see what interesting things may be hiding in these units!
URL:https://storageauctionkings.com/event/centerra-self-storage-2/
LOCATION:Centerra Self Storage\, 3702 Aldrin Dr\, Loveland\, CO\, 80538\, United States
CATEGORIES:Colorado Auctions
END:VEVENT
BEGIN:VEVENT
DTSTART;TZID=America/Denver:20200420T140000
DTEND;TZID=America/Denver:20200420T140000
DTSTAMP:20260424T064319
CREATED:20200315T154617Z
LAST-MODIFIED:20200415T011810Z
UID:3538-1587391200-1587391200@storageauctionkings.com
SUMMARY:-CANCELLED- LoDo Self Storage
DESCRIPTION:doSubject to change without notice.\n\n\n\n\n\nWe bet you’ll find something fun at this storage auction!
URL:https://storageauctionkings.com/event/lodo-self-storage/
LOCATION:LoDo Self Storage\, 3275 Denargo Street\, Denver\, CO\, 80216\, United States
CATEGORIES:Colorado Auctions
END:VEVENT
BEGIN:VEVENT
DTSTART;TZID=America/Denver:20200416T130000
DTEND;TZID=America/Denver:20200416T130000
DTSTAMP:20260424T064319
CREATED:20200209T181223Z
LAST-MODIFIED:20210312T175737Z
UID:3304-1587042000-1587042000@storageauctionkings.com
SUMMARY:Monument Self Storage
DESCRIPTION:Subject to change without notice. \nCome out and check it out! \nNote: Storage Auction Kings provides the lock-cut and inventory service for this location.
URL:https://storageauctionkings.com/event/monument-self-storage-2/
LOCATION:Monument Hill Self Storage\, 1895 Deer Creek Road\, Monument\, CO\, 80132\, United States
CATEGORIES:Colorado Auctions
END:VEVENT
BEGIN:VEVENT
DTSTART;TZID=America/Denver:20200415T143000
DTEND;TZID=America/Denver:20200415T143000
DTSTAMP:20260424T064319
CREATED:20191201T234254Z
LAST-MODIFIED:20210312T180321Z
UID:2304-1586961000-1586961000@storageauctionkings.com
SUMMARY:A Arrow Mini Storage
DESCRIPTION:Subject to change without notice. \nCome out and check it out! \nNote: Storage Auction Kings provides the lock-cut and inventory service for this location.
URL:https://storageauctionkings.com/event/monument-self-storage/
LOCATION:A Arrow Mini Storage\, 1871 Park Street\, Castle Rock\, CO\, 80109\, United States
CATEGORIES:Colorado Auctions
END:VEVENT
END:VCALENDAR