BEGIN:VCALENDAR
VERSION:2.0
PRODID:-//Storage Auction Kings - ECPv6.15.20//NONSGML v1.0//EN
CALSCALE:GREGORIAN
METHOD:PUBLISH
X-ORIGINAL-URL:https://storageauctionkings.com
X-WR-CALDESC:Events for Storage Auction Kings
REFRESH-INTERVAL;VALUE=DURATION:PT1H
X-Robots-Tag:noindex
X-PUBLISHED-TTL:PT1H
BEGIN:VTIMEZONE
TZID:America/Denver
BEGIN:DAYLIGHT
TZOFFSETFROM:-0700
TZOFFSETTO:-0600
TZNAME:MDT
DTSTART:20250309T090000
END:DAYLIGHT
BEGIN:STANDARD
TZOFFSETFROM:-0600
TZOFFSETTO:-0700
TZNAME:MST
DTSTART:20251102T080000
END:STANDARD
BEGIN:DAYLIGHT
TZOFFSETFROM:-0700
TZOFFSETTO:-0600
TZNAME:MDT
DTSTART:20260308T090000
END:DAYLIGHT
BEGIN:STANDARD
TZOFFSETFROM:-0600
TZOFFSETTO:-0700
TZNAME:MST
DTSTART:20261101T080000
END:STANDARD
BEGIN:DAYLIGHT
TZOFFSETFROM:-0700
TZOFFSETTO:-0600
TZNAME:MDT
DTSTART:20270314T090000
END:DAYLIGHT
BEGIN:STANDARD
TZOFFSETFROM:-0600
TZOFFSETTO:-0700
TZNAME:MST
DTSTART:20271107T080000
END:STANDARD
END:VTIMEZONE
BEGIN:VEVENT
DTSTART;TZID=America/Denver:20260415T100000
DTEND;TZID=America/Denver:20260415T100000
DTSTAMP:20260423T143256
CREATED:20240118T184536Z
LAST-MODIFIED:20260413T121430Z
UID:6781-1776247200-1776247200@storageauctionkings.com
SUMMARY:U-Haul Self Storage - Chambers & I-70
DESCRIPTION:8 units as of 4/13/2026. Subject to change without notice. \n\n\n\n\n\nYou are sure to find something! \n\n\n\n \n 
URL:https://storageauctionkings.com/event/u-haul-self-storage-chambers-i-70-2/
LOCATION:U-Haul Ctr\, E. 40th (Chambers)\, 15250 E. 40th Ave\, Denver\, CO\, 80239\, United States
CATEGORIES:Colorado Auctions
END:VEVENT
BEGIN:VEVENT
DTSTART;TZID=America/Denver:20260415T103000
DTEND;TZID=America/Denver:20260415T103000
DTSTAMP:20260423T143256
CREATED:20240118T184731Z
LAST-MODIFIED:20260413T121652Z
UID:6785-1776249000-1776249000@storageauctionkings.com
SUMMARY:U-Haul Center Buckley
DESCRIPTION:4 units as of 4/13/2026.  Subject to change without notice.\nYou’re sure to find something at this one!\n\n\n\n \n 
URL:https://storageauctionkings.com/event/u-haul-center-s-havana-3/
LOCATION:U-Haul Ctr 25\, Buckley Road\, 750 S. Buckley Rd.\, Aurora\, CO\, 80017\, United States
CATEGORIES:Colorado Auctions
END:VEVENT
BEGIN:VEVENT
DTSTART;TZID=America/Denver:20260415T110000
DTEND;TZID=America/Denver:20260415T110000
DTSTAMP:20260423T143256
CREATED:20250712T024446Z
LAST-MODIFIED:20260413T121905Z
UID:7626-1776250800-1776250800@storageauctionkings.com
SUMMARY:U-Haul Center Abilene
DESCRIPTION:2 units as of 4/13/2026.  Subject to change without notice. \n\n\nYou are sure to find something…\n\n\n \n 
URL:https://storageauctionkings.com/event/u-haul-center-abilene-6/
LOCATION:U-Haul Ctr\, Abilene\, 2150 S. Abilene Street\, Aurora\, CO\, 80014\, United States
CATEGORIES:Colorado Auctions
END:VEVENT
BEGIN:VEVENT
DTSTART;TZID=America/Denver:20260415T113000
DTEND;TZID=America/Denver:20260415T113000
DTSTAMP:20260423T143256
CREATED:20220308T150608Z
LAST-MODIFIED:20260413T122112Z
UID:5430-1776252600-1776252600@storageauctionkings.com
SUMMARY:U-Haul Self Storage Galena
DESCRIPTION:3 units as of 4/13/2026.  Subject to change without notice. \n\n\n\n\n\nYou are sure to find something! \n\n\n\n \n 
URL:https://storageauctionkings.com/event/u-haul-self-storage-chambers-i-70/
LOCATION:U-Haul Ctr Galena\, 3410 S. Galena St.\, Denver\, CO\, 80231\, United States
CATEGORIES:Colorado Auctions
END:VEVENT
BEGIN:VEVENT
DTSTART;TZID=America/Denver:20260415T120000
DTEND;TZID=America/Denver:20260415T120000
DTSTAMP:20260423T143256
CREATED:20220102T140523Z
LAST-MODIFIED:20260413T122641Z
UID:5334-1776254400-1776254400@storageauctionkings.com
SUMMARY:U-Haul Center S. Havana
DESCRIPTION:9 units as of 4/13/2026.  Subject to change without notice.\n\n\n\n\n\n\nYou’re sure to find something at this one!
URL:https://storageauctionkings.com/event/u-haul-center-s-havana/
LOCATION:U-Haul Ctr 44\, S. Havana\, 615 S. Havana\, Aurora\, CO\, 80012\, United States
CATEGORIES:Colorado Auctions
END:VEVENT
BEGIN:VEVENT
DTSTART;TZID=America/Denver:20260416T090000
DTEND;TZID=America/Denver:20260416T090000
DTSTAMP:20260423T143256
CREATED:20250418T195041Z
LAST-MODIFIED:20260413T122814Z
UID:7450-1776330000-1776330000@storageauctionkings.com
SUMMARY:U-Haul Self Storage - Woodmen
DESCRIPTION:9 units as of 4/13/2026.  Subject to change without notice. \nCome and join the fun!
URL:https://storageauctionkings.com/event/u-haul-self-storage-woodmen/
LOCATION:U-Haul Woodmen\, 455 E Woodmen Road\, Colorado Springs\, CO\, 80919\, United States
CATEGORIES:Colorado Auctions
END:VEVENT
BEGIN:VEVENT
DTSTART;TZID=America/Denver:20260416T093000
DTEND;TZID=America/Denver:20260416T093000
DTSTAMP:20260423T143256
CREATED:20191229T171930Z
LAST-MODIFIED:20260414T162552Z
UID:2569-1776331800-1776331800@storageauctionkings.com
SUMMARY:-CANCELLED- U-Haul Self Storage - Centennial Blvd
DESCRIPTION:Subject to change without notice. \nCome and join the fun!
URL:https://storageauctionkings.com/event/u-haul-self-storage-rockrimmon/
LOCATION:U-Haul Centennial Blvd\, 4725 Centennial Blvd\, Colorado Springs\, CO\, 80919
CATEGORIES:Colorado Auctions
END:VEVENT
BEGIN:VEVENT
DTSTART;TZID=America/Denver:20260416T100000
DTEND;TZID=America/Denver:20260416T100000
DTSTAMP:20260423T143256
CREATED:20250418T195312Z
LAST-MODIFIED:20260416T153432Z
UID:7449-1776333600-1776333600@storageauctionkings.com
SUMMARY:-CANCELLED- U-Haul Self Storage - Nevada
DESCRIPTION:Subject to change without notice. \nCome and join the fun!
URL:https://storageauctionkings.com/event/u-haul-self-storage-nevada/
LOCATION:U-Haul Ctr 26\, N. Nevada\, 3105 N. Nevada\, Colorado Springs\, CO\, 80907\, United States
CATEGORIES:Colorado Auctions
END:VEVENT
BEGIN:VEVENT
DTSTART;TZID=America/Denver:20260416T103000
DTEND;TZID=America/Denver:20260416T103000
DTSTAMP:20260423T143256
CREATED:20250418T195950Z
LAST-MODIFIED:20260413T123433Z
UID:7458-1776335400-1776335400@storageauctionkings.com
SUMMARY:U-Haul Self Storage - Fountain Blvd
DESCRIPTION:10 units as of 4/13/2026.  Subject to change without notice. \nCome and join the fun!
URL:https://storageauctionkings.com/event/u-haul-self-storage-fountain-blvd/
LOCATION:U-Haul Fountain Blvd\, 2703 E Fountain Blvd\, Colorado Springs\, CO\, 80919
CATEGORIES:Colorado Auctions
END:VEVENT
BEGIN:VEVENT
DTSTART;TZID=America/Denver:20260416T110000
DTEND;TZID=America/Denver:20260416T110000
DTSTAMP:20260423T143256
CREATED:20250418T200258Z
LAST-MODIFIED:20260413T123626Z
UID:7447-1776337200-1776337200@storageauctionkings.com
SUMMARY:U-Haul Self Storage - Academy Blvd
DESCRIPTION:9 units as of 4/13/2026.  Subject to change without notice. \nCome and join the fun!
URL:https://storageauctionkings.com/event/u-haul-self-storage-academy-blvd/
LOCATION:U-Haul Ctr 78\, Academy\, 1193 N. Academy Blvd\, Colorado Springs\, CO\, 80909\, United States
CATEGORIES:Colorado Auctions
END:VEVENT
BEGIN:VEVENT
DTSTART;TZID=America/Denver:20260416T113000
DTEND;TZID=America/Denver:20260416T113000
DTSTAMP:20260423T143256
CREATED:20250418T195606Z
LAST-MODIFIED:20260413T123809Z
UID:7448-1776339000-1776339000@storageauctionkings.com
SUMMARY:U-Haul Self Storage - Powers
DESCRIPTION:8 units as of 4/13/2026.  Subject to change without notice. \nCome and join the fun!
URL:https://storageauctionkings.com/event/u-haul-self-storage-powers/
LOCATION:U-Haul Ctr 47\, Powers Blvd.\, 2175 Victor Place\, Colorado Springs\, CO\, 80915\, United States
CATEGORIES:Colorado Auctions
END:VEVENT
BEGIN:VEVENT
DTSTART;TZID=America/Denver:20260416T140000
DTEND;TZID=America/Denver:20260416T160000
DTSTAMP:20260423T143256
CREATED:20250228T163044Z
LAST-MODIFIED:20260413T124014Z
UID:7358-1776348000-1776355200@storageauctionkings.com
SUMMARY:Willowstone Self Storage - East
DESCRIPTION:15 units as of 4/13/2026.  Subject to change without notice.\n\n\n\n\n\n\nAmazing Treasures Await! \nNote: Storage Auction Kings provides the lock-cut and inventory service for this location.  Click for lock cut and inventory pictures. 
URL:https://storageauctionkings.com/event/willowstone-self-storage-east/
LOCATION:Willowstone Self Storage\, 850 Valley Road\, Colorado Springs\, Colorado\, 80915
CATEGORIES:Colorado Auctions
END:VEVENT
BEGIN:VEVENT
DTSTART;TZID=America/Denver:20260416T150000
DTEND;TZID=America/Denver:20260416T150000
DTSTAMP:20260423T143256
CREATED:20250309T162319Z
LAST-MODIFIED:20260413T124220Z
UID:7357-1776351600-1776351600@storageauctionkings.com
SUMMARY:-CANCELLED- Willowstone Self Storage - West
DESCRIPTION:Subject to change without notice.\n\n\n\n\n\n\nAmazing Treasures Await! \nNote: Storage Auction Kings provides the lock-cut and inventory service for this location.  Click for lock cut and inventory pictures. 
URL:https://storageauctionkings.com/event/willowstone-self-storage-west/
LOCATION:Willowstone Self Storage – West\, 2150 Garden of the Gods Rd\, Colorado Springs\, CO\, 80907\, United States
CATEGORIES:Colorado Auctions
END:VEVENT
BEGIN:VEVENT
DTSTART;TZID=America/Denver:20260417T090000
DTEND;TZID=America/Denver:20260417T090000
DTSTAMP:20260423T143256
CREATED:20250418T201052Z
LAST-MODIFIED:20260413T124437Z
UID:7463-1776416400-1776416400@storageauctionkings.com
SUMMARY:U-Haul Pueblo University Park
DESCRIPTION:3 units as of 4/13/2026.  Subject to change without notice.\n\n\n\n\n\n  \n\n\n\n  \n 
URL:https://storageauctionkings.com/event/u-haul-pueblo-university-park/
LOCATION:U-Haul Pueblo University\, 827 Village Circle\, Pueblo\, CO\, 81001
CATEGORIES:Colorado Auctions
ORGANIZER;CN="Tessa Palombo":MAILTO:tessa@storageauctionkings.com
END:VEVENT
BEGIN:VEVENT
DTSTART;TZID=America/Denver:20260417T093000
DTEND;TZID=America/Denver:20260417T093000
DTSTAMP:20260423T143256
CREATED:20191229T172132Z
LAST-MODIFIED:20260413T124744Z
UID:2571-1776418200-1776418200@storageauctionkings.com
SUMMARY:U-Haul Pueblo
DESCRIPTION:4 units as of 4/13/2026.  Subject to change without notice.\n\n\n\n\n\nCome and have some fun!! \n\n\n\n  \n 
URL:https://storageauctionkings.com/event/u-haul-pueblo-2/
LOCATION:U-Haul Ctr 29\, Pueblo\, 4030 Carruth Ct\, Pueblo\, CO\, 81008\, United States
CATEGORIES:Colorado Auctions
ORGANIZER;CN="Tessa Palombo":MAILTO:tessa@storageauctionkings.com
END:VEVENT
BEGIN:VEVENT
DTSTART;TZID=America/Denver:20260417T100000
DTEND;TZID=America/Denver:20260417T100000
DTSTAMP:20260423T143256
CREATED:20250418T201315Z
LAST-MODIFIED:20260413T125128Z
UID:7462-1776420000-1776420000@storageauctionkings.com
SUMMARY:U-Haul Pueblo West
DESCRIPTION:2 units as of 4/13/2026.  Subject to change without notice.\n\n\n\n\nCome and have some fun!! \n\n\n\n  \n 
URL:https://storageauctionkings.com/event/u-haul-pueblo-west/
LOCATION:U-Haul Pueblo West\, 469 E. Spaulding Ave\, Pueblo\, CO\, 81001\, United States
CATEGORIES:Colorado Auctions
ORGANIZER;CN="Tessa Palombo":MAILTO:tessa@storageauctionkings.com
END:VEVENT
BEGIN:VEVENT
DTSTART;TZID=America/Denver:20260417T110000
DTEND;TZID=America/Denver:20260417T110000
DTSTAMP:20260423T143256
CREATED:20221113T150834Z
LAST-MODIFIED:20260316T140752Z
UID:5981-1776423600-1776423600@storageauctionkings.com
SUMMARY:Colorado Springs Storage South
DESCRIPTION: Subject to change without notice.\n\n\n\n\n\n\nAmazing Treasures Await! \nNote: Storage Auction Kings provides the lock-cut and inventory service for this location.   \n\n\n\n 
URL:https://storageauctionkings.com/event/colorado-springs-storage-south/
LOCATION:Colorado Springs Storage South\, 1625 Lashelle Way\, Colorado Springs\, CO\, 80906\, United States
CATEGORIES:Colorado Auctions
END:VEVENT
BEGIN:VEVENT
DTSTART;TZID=America/Denver:20260417T120000
DTEND;TZID=America/Denver:20260417T120000
DTSTAMP:20260423T143256
CREATED:20221211T182259Z
LAST-MODIFIED:20260316T140517Z
UID:6004-1776427200-1776427200@storageauctionkings.com
SUMMARY:Colorado Springs Storage Central
DESCRIPTION:Subject to change without notice. \n\n\n\n\n\nAmazing Treasures Await! \nNote: Storage Auction Kings provides the lock-cut and inventory service for this location. \n\n\n\n 
URL:https://storageauctionkings.com/event/colorado-springs-storage-central-2/
LOCATION:Colorado Springs Storage Central\, 3132 Mallard Drive\, Colorado Springs\, CO\, 80910\, United States
CATEGORIES:Colorado Auctions
END:VEVENT
BEGIN:VEVENT
DTSTART;TZID=America/Denver:20260417T123000
DTEND;TZID=America/Denver:20260417T123000
DTSTAMP:20260423T143256
CREATED:20250402T233154Z
LAST-MODIFIED:20260417T181022Z
UID:7434-1776429000-1776429000@storageauctionkings.com
SUMMARY:-CANCELLED- Landmark Self Storage
DESCRIPTION:Subject to change without notice.\n\n\n\n\n\nNote: Storage Auction Kings provides the lock-cut and inventory service for this location. \nAmazing Treasures Await!
URL:https://storageauctionkings.com/event/landmark-self-storage-2/
LOCATION:Landmark Self Storage\, 3335 Landmark Lane\, Colorado Springs\, CO\, 80910\, United States
CATEGORIES:Colorado Auctions
END:VEVENT
BEGIN:VEVENT
DTSTART;TZID=America/Denver:20260417T140000
DTEND;TZID=America/Denver:20260417T140000
DTSTAMP:20260423T143256
CREATED:20191101T225335Z
LAST-MODIFIED:20260316T140157Z
UID:1499-1776434400-1776434400@storageauctionkings.com
SUMMARY:Colorado Springs Storage North
DESCRIPTION:Subject to change without notice. \n\n\n\n\n\nNote: Storage Auction Kings provides the lock-cut and inventory service for this location. \nAmazing Treasures Await! \n\n\n\n 
URL:https://storageauctionkings.com/event/colorado-springs-storage-north/
LOCATION:Colorado Springs Storage North\, 330 Karen Drive\, Colorado Springs\, CO\, 80907\, United States
CATEGORIES:Colorado Auctions
END:VEVENT
END:VCALENDAR