BEGIN:VCALENDAR
VERSION:2.0
PRODID:-//Storage Auction Kings - ECPv6.15.20//NONSGML v1.0//EN
CALSCALE:GREGORIAN
METHOD:PUBLISH
X-WR-CALNAME:Storage Auction Kings
X-ORIGINAL-URL:https://storageauctionkings.com
X-WR-CALDESC:Events for Storage Auction Kings
REFRESH-INTERVAL;VALUE=DURATION:PT1H
X-Robots-Tag:noindex
X-PUBLISHED-TTL:PT1H
BEGIN:VTIMEZONE
TZID:America/Denver
BEGIN:DAYLIGHT
TZOFFSETFROM:-0700
TZOFFSETTO:-0600
TZNAME:MDT
DTSTART:20250309T090000
END:DAYLIGHT
BEGIN:STANDARD
TZOFFSETFROM:-0600
TZOFFSETTO:-0700
TZNAME:MST
DTSTART:20251102T080000
END:STANDARD
BEGIN:DAYLIGHT
TZOFFSETFROM:-0700
TZOFFSETTO:-0600
TZNAME:MDT
DTSTART:20260308T090000
END:DAYLIGHT
BEGIN:STANDARD
TZOFFSETFROM:-0600
TZOFFSETTO:-0700
TZNAME:MST
DTSTART:20261101T080000
END:STANDARD
BEGIN:DAYLIGHT
TZOFFSETFROM:-0700
TZOFFSETTO:-0600
TZNAME:MDT
DTSTART:20270314T090000
END:DAYLIGHT
BEGIN:STANDARD
TZOFFSETFROM:-0600
TZOFFSETTO:-0700
TZNAME:MST
DTSTART:20271107T080000
END:STANDARD
END:VTIMEZONE
BEGIN:VEVENT
DTSTART;TZID=America/Denver:20260415T093000
DTEND;TZID=America/Denver:20260415T093000
DTSTAMP:20260423T113537
CREATED:20250712T021653Z
LAST-MODIFIED:20260413T121231Z
UID:7617-1776245400-1776245400@storageauctionkings.com
SUMMARY:U-Haul Colorado Blvd.
DESCRIPTION:8 units as of 4/13/2026.  Subject to change without notice. \n\n\nYou are sure to find something…\n\n\n \n 
URL:https://storageauctionkings.com/event/u-haul-colorado-blvd-2/
LOCATION:U-Haul Ctr\, Colorado Blvd.\, 4800 Colorado Blvd\, Denver\, CO\, 80216\, United States
CATEGORIES:Colorado Auctions
END:VEVENT
BEGIN:VEVENT
DTSTART;TZID=America/Denver:20260415T090000
DTEND;TZID=America/Denver:20260415T090000
DTSTAMP:20260423T113537
CREATED:20250711T232829Z
LAST-MODIFIED:20260413T121047Z
UID:7602-1776243600-1776243600@storageauctionkings.com
SUMMARY:U-Haul York St.
DESCRIPTION:2 units as of 4/13/2026.  Subject to change without notice.\n\n\n\n\nYou are sure to find something… \n\n\n\n \n 
URL:https://storageauctionkings.com/event/u-haul-york-st-2/
LOCATION:U-Haul Ctr\, York\, 7540 York Street\, Denver\, CO\, 80229\, United States
CATEGORIES:Colorado Auctions
END:VEVENT
BEGIN:VEVENT
DTSTART;TZID=America/Denver:20260414T153000
DTEND;TZID=America/Denver:20260414T153000
DTSTAMP:20260423T113537
CREATED:20210716T135729Z
LAST-MODIFIED:20260413T120441Z
UID:4988-1776180600-1776180600@storageauctionkings.com
SUMMARY:Federal Heights Self Storage
DESCRIPTION:5 units as of 4/13/2026.  Subject to change without notice. \nCome and check out this location! \nNote: Storage Auction Kings provides the lock-cut and inventory service for this location. \n\n\n\n 
URL:https://storageauctionkings.com/event/federal-heights-self-storage-3/
LOCATION:Federal Hts Store LLC\, 9230 Federal Blvd.\, Westminster\, CO\, 80260\, United States
CATEGORIES:Colorado Auctions
END:VEVENT
BEGIN:VEVENT
DTSTART;TZID=America/Denver:20260414T143000
DTEND;TZID=America/Denver:20260414T143000
DTSTAMP:20260423T113537
CREATED:20260114T222530Z
LAST-MODIFIED:20260413T113816Z
UID:8019-1776177000-1776177000@storageauctionkings.com
SUMMARY:-CANCELLED- Coronado Self Storage
DESCRIPTION:Subject to change without notice.  Come see what you can find! \n\n\n\nNote: Storage Auction Kings provides the lock-cut and inventory service for this location.
URL:https://storageauctionkings.com/event/coronado-self-storage/
LOCATION:Coronado Self Storage\, 2045 Coronado Pkwy N\, Thornton\, CO\, 80229\, United States
CATEGORIES:Colorado Auctions
END:VEVENT
BEGIN:VEVENT
DTSTART;TZID=America/Denver:20260414T133000
DTEND;TZID=America/Denver:20260414T133000
DTSTAMP:20260423T113537
CREATED:20221113T150255Z
LAST-MODIFIED:20260413T113634Z
UID:5972-1776173400-1776173400@storageauctionkings.com
SUMMARY:Central Park Self Storage
DESCRIPTION:6 units as of 4/13/2026.  Subject to change without notice. \nCome out and check it out! \nNote: Storage Auction Kings provides the lock-cut and inventory service for this location. \n\n\n\n \n \n \n 
URL:https://storageauctionkings.com/event/central-park-self-storage/
LOCATION:Stapleton Self Storage\, 9591 E. 22nd Ave.\, Aurora\, CO\, 80010\, United States
CATEGORIES:Colorado Auctions
END:VEVENT
BEGIN:VEVENT
DTSTART;TZID=America/Denver:20260414T113000
DTEND;TZID=America/Denver:20260414T113000
DTSTAMP:20260423T113537
CREATED:20260316T133625Z
LAST-MODIFIED:20260413T113243Z
UID:8178-1776166200-1776166200@storageauctionkings.com
SUMMARY:U-Haul Self Storage Englewood
DESCRIPTION:2 units as of 4/13/2026.  Subject to change without notice. \nCome and join the fun!
URL:https://storageauctionkings.com/event/u-haul-self-storage-englewood-2/
LOCATION:U-Haul Ctr\, Englewood\, 2727 S. Santa Fe Drive\, Englewood\, CO\, 80110\, United States
CATEGORIES:Colorado Auctions
END:VEVENT
BEGIN:VEVENT
DTSTART;TZID=America/Denver:20260414T110000
DTEND;TZID=America/Denver:20260414T110000
DTSTAMP:20260423T113537
CREATED:20260316T133116Z
LAST-MODIFIED:20260413T113031Z
UID:8176-1776164400-1776164400@storageauctionkings.com
SUMMARY:-CANCELLED- U-Haul Self Storage S. Santa Fe
DESCRIPTION:Come join us! Subject to change without notice. \n\n\n \n 
URL:https://storageauctionkings.com/event/u-haul-self-storage-s-santa-fe-3/
LOCATION:U-Haul Ctr 21\, Santa Fe Dr.\, 4849 S. Santa Fe\, Littleton\, CO\, 80120\, United States
CATEGORIES:Colorado Auctions
END:VEVENT
BEGIN:VEVENT
DTSTART;TZID=America/Denver:20260414T103000
DTEND;TZID=America/Denver:20260414T103000
DTSTAMP:20260423T113537
CREATED:20260316T132850Z
LAST-MODIFIED:20260413T112625Z
UID:8174-1776162600-1776162600@storageauctionkings.com
SUMMARY:U-Haul Self Storage Highlands Ranch
DESCRIPTION:3 units as of 4/13/2026.  Subject to change without notice.\n\n\n\n\n\nCome and have some fun!! \n\n\n\n  \n 
URL:https://storageauctionkings.com/event/u-haul-self-storage-highlands-ranch-2/
LOCATION:U-Haul Ctr 35\, Highlands Ranch\, 1750 E. County Line Rd.\, Highlands Ranch\, CO\, 80126\, United States
CATEGORIES:Colorado Auctions
ORGANIZER;CN="Tessa Palombo":MAILTO:tessa@storageauctionkings.com
END:VEVENT
BEGIN:VEVENT
DTSTART;TZID=America/Denver:20260414T100000
DTEND;TZID=America/Denver:20260414T100000
DTSTAMP:20260423T113537
CREATED:20260316T132630Z
LAST-MODIFIED:20260413T112508Z
UID:8172-1776160800-1776160800@storageauctionkings.com
SUMMARY:--CANCELLED- U-Haul Self Storage Castle Rock
DESCRIPTION:Subject to change without notice.\n\n\n\n\n\n\nYou’re sure to find something at this one!
URL:https://storageauctionkings.com/event/u-haul-self-storage-castle-rock/
LOCATION:U-Haul Castle Rock\, 2269 Manatt Ct\, Castle Rock\, CO\, 80104\, United States
CATEGORIES:Colorado Auctions
END:VEVENT
BEGIN:VEVENT
DTSTART;TZID=America/Denver:20260413T123000
DTEND;TZID=America/Denver:20260413T123000
DTSTAMP:20260423T113537
CREATED:20250711T234519Z
LAST-MODIFIED:20260413T112330Z
UID:7605-1776083400-1776083400@storageauctionkings.com
SUMMARY:U-Haul Self Storage Loveland
DESCRIPTION:2 units as of 4/13/2026.  Subject to change without notice. \n \n\n\n\n\n\nCome join us! \n\n\n\n \n \n 
URL:https://storageauctionkings.com/event/u-haul-self-storage-loveland-2/
LOCATION:UHaul Loveland\, 3305 N. Lincoln Ave.\, Loveland\, CO\, 80538\, United States
CATEGORIES:Colorado Auctions
END:VEVENT
BEGIN:VEVENT
DTSTART;TZID=America/Denver:20260413T120000
DTEND;TZID=America/Denver:20260413T140000
DTSTAMP:20260423T113537
CREATED:20250901T143316Z
LAST-MODIFIED:20260413T112146Z
UID:7742-1776081600-1776088800@storageauctionkings.com
SUMMARY:U-Haul Self Storage Loveland - Byrd Drive
DESCRIPTION:2 units as of 4/13/2026.  Subject to change without notice. \n \n\n\n\n\n\nCome join us! \n\n\n\n \n \n 
URL:https://storageauctionkings.com/event/u-haul-self-storage-loveland-byrd-drive/
LOCATION:UHaul Loveland – Byrd\, 5550 Byrd Drive\, Loveland\, 80538\, United States
CATEGORIES:Colorado Auctions
END:VEVENT
BEGIN:VEVENT
DTSTART;TZID=America/Denver:20260413T110000
DTEND;TZID=America/Denver:20260413T110000
DTSTAMP:20260423T113537
CREATED:20260103T161154Z
LAST-MODIFIED:20260413T111844Z
UID:7992-1776078000-1776078000@storageauctionkings.com
SUMMARY:-CANCELLED- West Greeley Self Storage
DESCRIPTION:Subject to change without notice. \nCome see what you can find!
URL:https://storageauctionkings.com/event/west-greeley-self-storage/
LOCATION:West Greeley Self Storage\, 1215 95th Ave\, Greeley\, CO\, 80634
CATEGORIES:Colorado Auctions
END:VEVENT
BEGIN:VEVENT
DTSTART;TZID=America/Denver:20260413T100000
DTEND;TZID=America/Denver:20260413T100000
DTSTAMP:20260423T113537
CREATED:20250712T000118Z
LAST-MODIFIED:20260413T111956Z
UID:7613-1776074400-1776074400@storageauctionkings.com
SUMMARY:U-Haul Self Storage Longmont
DESCRIPTION:3 units as of 4/13/2026.  Subject to change without notice.\n\n\n\n\n\nCome join us! \n\n\n\n \n 
URL:https://storageauctionkings.com/event/u-haul-self-storage-longmont-3/
LOCATION:U-Haul Longmont\, 3885 Highland Drive\, Longmont\, CO\, 80504
CATEGORIES:Colorado Auctions
END:VEVENT
BEGIN:VEVENT
DTSTART;TZID=America/Denver:20260326T113000
DTEND;TZID=America/Denver:20260326T113000
DTSTAMP:20260423T113537
CREATED:20250507T173348Z
LAST-MODIFIED:20260325T230914Z
UID:7520-1774524600-1774524600@storageauctionkings.com
SUMMARY:U-Haul Self Storage Englewood
DESCRIPTION:9 units as of 3/25/2026.  Subject to change without notice. \nCome and join the fun!
URL:https://storageauctionkings.com/event/u-haul-self-storage-englewood/
LOCATION:U-Haul Ctr\, Englewood\, 2727 S. Santa Fe Drive\, Englewood\, CO\, 80110\, United States
CATEGORIES:Colorado Auctions
END:VEVENT
BEGIN:VEVENT
DTSTART;TZID=America/Denver:20260326T110000
DTEND;TZID=America/Denver:20260326T110000
DTSTAMP:20260423T113537
CREATED:20251109T212933Z
LAST-MODIFIED:20260325T230742Z
UID:7921-1774522800-1774522800@storageauctionkings.com
SUMMARY:U-Haul Self Storage S. Santa Fe
DESCRIPTION:2 units as of 3/25/2026. Come join us! Subject to change without notice. \n\n\n \n 
URL:https://storageauctionkings.com/event/u-haul-self-storage-s-santa-fe-2/
LOCATION:U-Haul Ctr 21\, Santa Fe Dr.\, 4849 S. Santa Fe\, Littleton\, CO\, 80120\, United States
CATEGORIES:Colorado Auctions
END:VEVENT
BEGIN:VEVENT
DTSTART;TZID=America/Denver:20260326T103000
DTEND;TZID=America/Denver:20260326T103000
DTSTAMP:20260423T113537
CREATED:20251109T212702Z
LAST-MODIFIED:20260325T230528Z
UID:7919-1774521000-1774521000@storageauctionkings.com
SUMMARY:U-Haul Self Storage Highlands Ranch
DESCRIPTION:6 units as of 3/25/2026.  Subject to change without notice.\n\n\n\n\n\nCome and have some fun!! \n\n\n\n  \n 
URL:https://storageauctionkings.com/event/u-haul-self-storage-highlands-ranch/
LOCATION:U-Haul Ctr 35\, Highlands Ranch\, 1750 E. County Line Rd.\, Highlands Ranch\, CO\, 80126\, United States
CATEGORIES:Colorado Auctions
ORGANIZER;CN="Tessa Palombo":MAILTO:tessa@storageauctionkings.com
END:VEVENT
BEGIN:VEVENT
DTSTART;TZID=America/Denver:20260326T100000
DTEND;TZID=America/Denver:20260326T100000
DTSTAMP:20260423T113537
CREATED:20250507T171116Z
LAST-MODIFIED:20260326T152039Z
UID:7506-1774519200-1774519200@storageauctionkings.com
SUMMARY:-CANCELLED- U-Haul Self Storage Castle Rock
DESCRIPTION:Subject to change without notice.\n\n\n\n\n\n\nYou’re sure to find something at this one!
URL:https://storageauctionkings.com/event/u-haul-center-castle-rock/
LOCATION:U-Haul Castle Rock\, 2269 Manatt Ct\, Castle Rock\, CO\, 80104\, United States
CATEGORIES:Colorado Auctions
END:VEVENT
BEGIN:VEVENT
DTSTART;TZID=America/Denver:20260313T150000
DTEND;TZID=America/Denver:20260313T150000
DTSTAMP:20260423T113537
CREATED:20220508T160524Z
LAST-MODIFIED:20260312T233204Z
UID:5564-1773414000-1773414000@storageauctionkings.com
SUMMARY:-CANCELLED- Colorado Springs Storage North
DESCRIPTION:Subject to change without notice. \n\n\n\n\n\nNote: Storage Auction Kings provides the lock-cut and inventory service for this location. \nAmazing Treasures Await!
URL:https://storageauctionkings.com/event/colorado-springs-storage-north-2/
LOCATION:Colorado Springs Storage North\, 330 Karen Drive\, Colorado Springs\, CO\, 80907\, United States
CATEGORIES:Colorado Auctions
END:VEVENT
BEGIN:VEVENT
DTSTART;TZID=America/Denver:20260313T100000
DTEND;TZID=America/Denver:20260313T110000
DTSTAMP:20260423T113537
CREATED:20200927T143328Z
LAST-MODIFIED:20260226T231328Z
UID:4204-1773396000-1773399600@storageauctionkings.com
SUMMARY:12 Broadway Self Storage
DESCRIPTION:Subject to change without notice.\n\n\n\n\n\nCome see what you can find! \n\n\n\n 
URL:https://storageauctionkings.com/event/12-broadway-self-storage/
LOCATION:12 Broadway Self Storage\, 12 Broadway\, Denver\, CO\, 80203\, United States
CATEGORIES:Colorado Auctions
END:VEVENT
BEGIN:VEVENT
DTSTART;TZID=America/Denver:20260312T150000
DTEND;TZID=America/Denver:20260312T150000
DTSTAMP:20260423T113537
CREATED:20250609T114119Z
LAST-MODIFIED:20260310T151240Z
UID:7515-1773327600-1773327600@storageauctionkings.com
SUMMARY:-CANCELLED- U-Haul Self Storage Longmont
DESCRIPTION:Subject to change without notice.\n\n\n\n\n\nCome join us! \n\n\n\n \n 
URL:https://storageauctionkings.com/event/u-haul-self-storage-longmont-2/
LOCATION:U-Haul Longmont\, 3885 Highland Drive\, Longmont\, CO\, 80504
CATEGORIES:Colorado Auctions
END:VEVENT
BEGIN:VEVENT
DTSTART;TZID=America/Denver:20260214T133000
DTEND;TZID=America/Denver:20260214T133000
DTSTAMP:20260423T113537
CREATED:20200623T163917Z
LAST-MODIFIED:20260214T184937Z
UID:3882-1771075800-1771075800@storageauctionkings.com
SUMMARY:-CANCELLED- Cavern Springs Self Storage - Glenwood Springs
DESCRIPTION:Subject to change without notice.
URL:https://storageauctionkings.com/event/h-lazy-f-self-storage-glenwood-springs/
LOCATION:Cavern Springs Self Storage\, 5445 Co Rd. 154\, Glenwood Springs\, CO\, 81601\, United States
END:VEVENT
BEGIN:VEVENT
DTSTART;TZID=America/Denver:20260214T100000
DTEND;TZID=America/Denver:20260214T100000
DTSTAMP:20260423T113537
CREATED:20200209T162107Z
LAST-MODIFIED:20260115T182646Z
UID:3225-1771063200-1771063200@storageauctionkings.com
SUMMARY:U-Haul Self Storage GRAND JUNCTION - 2809 North Ave.
DESCRIPTION:Subject to change without notice.\n\n\n\n\n\nATTN: THIS U-HAUL LOCATION NOW ACCEPTS CASH AS WELL AS MAJOR CREDIT AND DEBIT CARDS TO PURCHASE A UNIT!\nYou’ll never know what you may find… \n\n\n\n 
URL:https://storageauctionkings.com/event/u-haul-self-storage-grand-junction-2809-north-ave-3/
LOCATION:U-Haul Ctr\, Grand Junction – 2809 North Ave\, 2809 N Ave.\, Grand Junction\, CO\, 81504\, United States
CATEGORIES:Colorado Auctions
END:VEVENT
BEGIN:VEVENT
DTSTART;TZID=America/Denver:20260214T093000
DTEND;TZID=America/Denver:20260214T093000
DTSTAMP:20260423T113537
CREATED:20200209T161938Z
LAST-MODIFIED:20260115T182000Z
UID:3223-1771061400-1771061400@storageauctionkings.com
SUMMARY:U-Haul Self Storage GRAND JUNCTION - North Ave.
DESCRIPTION:Subject to change without notice.\n\n\n\n\n\nATTN: THIS U-HAUL LOCATION NOW ACCEPTS CASH AS WELL AS MAJOR CREDIT AND DEBIT CARDS TO PURCHASE A UNIT!\nYou’ll never know what you may find… \n\n\n\n 
URL:https://storageauctionkings.com/event/u-haul-self-storage-grand-junction-north-ave-3/
LOCATION:U-Haul Ctr\, Grand Junction – North Ave\, 2949 North Ave.\, Grand Junction\, CO\, 81504\, United States
CATEGORIES:Colorado Auctions
END:VEVENT
BEGIN:VEVENT
DTSTART;TZID=America/Denver:20260214T090000
DTEND;TZID=America/Denver:20260214T090000
DTSTAMP:20260423T113537
CREATED:20200209T161802Z
LAST-MODIFIED:20260115T181143Z
UID:3221-1771059600-1771059600@storageauctionkings.com
SUMMARY:U-Haul Self Storage GRAND JUNCTION 1/2 Rd.
DESCRIPTION:Subject to change without notice.  \n\nATTN: THIS U-HAUL LOCATION NOW ACCEPTS CASH AS WELL AS MAJOR CREDIT AND DEBIT CARDS TO PURCHASE A UNIT!\n\n\n\n\n\nCome join us! \n\n\n\n 
URL:https://storageauctionkings.com/event/u-haul-self-storage-grand-junction-1-2-rd-3/
LOCATION:U-Haul Grand Junction 1/2 Road\, 3113 E 1/2 Rd\, Grand Junction\, CO\, 81504\, United States
CATEGORIES:Colorado Auctions
END:VEVENT
BEGIN:VEVENT
DTSTART;TZID=America/Denver:20260213T160000
DTEND;TZID=America/Denver:20260213T160000
DTSTAMP:20260423T113537
CREATED:20260115T180002Z
LAST-MODIFIED:20260115T180002Z
UID:8055-1770998400-1770998400@storageauctionkings.com
SUMMARY:Castle Lock Self Storage
DESCRIPTION:Subject to change without notice.\n\n\n\n\n\n\nYou’re sure to find something at this one!
URL:https://storageauctionkings.com/event/castle-lock-self-storage/
LOCATION:Castle Lock Self Storage\, 1936 Ligett Rd\, Castle Rock\, CO\, 80109\, United States
CATEGORIES:Colorado Auctions
END:VEVENT
BEGIN:VEVENT
DTSTART;TZID=America/Denver:20260213T153000
DTEND;TZID=America/Denver:20260213T153000
DTSTAMP:20260423T113537
CREATED:20200209T181050Z
LAST-MODIFIED:20260208T135350Z
UID:3302-1770996600-1770996600@storageauctionkings.com
SUMMARY:-CANCELLED- Railway Arms Self Storage
DESCRIPTION:Subject to change without notice. \nStorage Auction Kings provides lock cut services for this location. \nCome join the fun! \n 
URL:https://storageauctionkings.com/event/railway-arms-self-storage-2/
LOCATION:Railway Arms Self Storage\, 400 E Kiowa Ave\, Elizabeth\, CO\, 80107\, United States
CATEGORIES:Colorado Auctions
END:VEVENT
BEGIN:VEVENT
DTSTART;TZID=America/Denver:20260212T140000
DTEND;TZID=America/Denver:20260212T140000
DTSTAMP:20260423T113537
CREATED:20200914T234314Z
LAST-MODIFIED:20260208T141017Z
UID:4160-1770904800-1770904800@storageauctionkings.com
SUMMARY:Garden of the Gods Self Storage
DESCRIPTION:4 units as of 2/8/2026.  Subject to change without notice.
URL:https://storageauctionkings.com/event/garden-of-the-gods-self-storage/
LOCATION:Garden of the Gods Self S.\, 4905 N. 30th Street\, Colorado Springs\, CO\, 80919\, United States
END:VEVENT
BEGIN:VEVENT
DTSTART;TZID=America/Denver:20260211T150000
DTEND;TZID=America/Denver:20260211T150000
DTSTAMP:20260423T113537
CREATED:20200209T161313Z
LAST-MODIFIED:20260208T134205Z
UID:3215-1770822000-1770822000@storageauctionkings.com
SUMMARY:-CANCELLED- Coronado Self Storage
DESCRIPTION:Subject to change without notice. \n\n\n\nCome see what you can find! \nNote: Storage Auction Kings provides the lock-cut and inventory service for this location.
URL:https://storageauctionkings.com/event/coronado-self-storage-5/
LOCATION:Coronado Self Storage\, 2045 Coronado Pkwy N\, Thornton\, CO\, 80229\, United States
CATEGORIES:Colorado Auctions
END:VEVENT
BEGIN:VEVENT
DTSTART;TZID=America/Denver:20260211T110000
DTEND;TZID=America/Denver:20260211T110000
DTSTAMP:20260423T113537
CREATED:20241011T192431Z
LAST-MODIFIED:20260208T143856Z
UID:7174-1770807600-1770807600@storageauctionkings.com
SUMMARY:U-Haul Center Abilene
DESCRIPTION:3 units as of 2/8/2026Subject to change without notice. \n\n\nYou are sure to find something…\n\n\n \n 
URL:https://storageauctionkings.com/event/u-haul-center-abilene-5/
LOCATION:U-Haul Ctr\, Abilene\, 2150 S. Abilene Street\, Aurora\, CO\, 80014\, United States
CATEGORIES:Colorado Auctions
END:VEVENT
BEGIN:VEVENT
DTSTART;TZID=America/Denver:20260210T143000
DTEND;TZID=America/Denver:20260210T143000
DTSTAMP:20260423T113537
CREATED:20260208T133923Z
LAST-MODIFIED:20260208T150519Z
UID:8066-1770733800-1770733800@storageauctionkings.com
SUMMARY:Outrig Self Storage
DESCRIPTION:2 units as of 2/8/2026.  Subject to change without notice. \nCome out and check it out! \n     \n\n\n\n \n \n \n 
URL:https://storageauctionkings.com/event/outrig-self-storage/
LOCATION:Out Rig Storage\, 4070 Camelot Circle\, Longmont\, CO\, 80504
CATEGORIES:Colorado Auctions
END:VEVENT
END:VCALENDAR