BEGIN:VCALENDAR
VERSION:2.0
PRODID:-//Storage Auction Kings - ECPv6.15.20//NONSGML v1.0//EN
CALSCALE:GREGORIAN
METHOD:PUBLISH
X-ORIGINAL-URL:https://storageauctionkings.com
X-WR-CALDESC:Events for Storage Auction Kings
REFRESH-INTERVAL;VALUE=DURATION:PT1H
X-Robots-Tag:noindex
X-PUBLISHED-TTL:PT1H
BEGIN:VTIMEZONE
TZID:America/Denver
BEGIN:DAYLIGHT
TZOFFSETFROM:-0700
TZOFFSETTO:-0600
TZNAME:MDT
DTSTART:20250309T090000
END:DAYLIGHT
BEGIN:STANDARD
TZOFFSETFROM:-0600
TZOFFSETTO:-0700
TZNAME:MST
DTSTART:20251102T080000
END:STANDARD
BEGIN:DAYLIGHT
TZOFFSETFROM:-0700
TZOFFSETTO:-0600
TZNAME:MDT
DTSTART:20260308T090000
END:DAYLIGHT
BEGIN:STANDARD
TZOFFSETFROM:-0600
TZOFFSETTO:-0700
TZNAME:MST
DTSTART:20261101T080000
END:STANDARD
BEGIN:DAYLIGHT
TZOFFSETFROM:-0700
TZOFFSETTO:-0600
TZNAME:MDT
DTSTART:20270314T090000
END:DAYLIGHT
BEGIN:STANDARD
TZOFFSETFROM:-0600
TZOFFSETTO:-0700
TZNAME:MST
DTSTART:20271107T080000
END:STANDARD
END:VTIMEZONE
BEGIN:VEVENT
DTSTART;TZID=America/Denver:20260114T090000
DTEND;TZID=America/Denver:20260114T090000
DTSTAMP:20260423T172328
CREATED:20250712T024601Z
LAST-MODIFIED:20260112T232805Z
UID:7628-1768381200-1768381200@storageauctionkings.com
SUMMARY:U-Haul York St.
DESCRIPTION: 2 units as of 1/12/2026.  Subject to change without notice.\n\n\n\nYou are sure to find something… \n\n\n\n \n 
URL:https://storageauctionkings.com/event/u-haul-york-st-3/
LOCATION:U-Haul Ctr\, York\, 7540 York Street\, Denver\, CO\, 80229\, United States
CATEGORIES:Colorado Auctions
END:VEVENT
BEGIN:VEVENT
DTSTART;TZID=America/Denver:20260114T100000
DTEND;TZID=America/Denver:20260114T100000
DTSTAMP:20260423T172328
CREATED:20250712T021801Z
LAST-MODIFIED:20260113T185656Z
UID:7619-1768384800-1768384800@storageauctionkings.com
SUMMARY:U-Haul Self Storage - Chambers & I-70
DESCRIPTION:11 units as of 1/13/2026. Subject to change without notice. \n\n\n\n\nYou are sure to find something! \n\n\n\n \n 
URL:https://storageauctionkings.com/event/u-haul-self-storage-chambers-i-70-3/
LOCATION:U-Haul Ctr\, E. 40th (Chambers)\, 15250 E. 40th Ave\, Denver\, CO\, 80239\, United States
CATEGORIES:Colorado Auctions
END:VEVENT
BEGIN:VEVENT
DTSTART;TZID=America/Denver:20260114T103000
DTEND;TZID=America/Denver:20260114T103000
DTSTAMP:20260423T172328
CREATED:20250712T021909Z
LAST-MODIFIED:20260113T185827Z
UID:7621-1768386600-1768386600@storageauctionkings.com
SUMMARY:U-Haul Center Buckley
DESCRIPTION:9 units as of 1/13/2026. Subject to change without notice.\n\n\n\n\nYou’re sure to find something at this one! \n\n\n\n \n 
URL:https://storageauctionkings.com/event/u-haul-center-buckley/
LOCATION:U-Haul Ctr 25\, Buckley Road\, 750 S. Buckley Rd.\, Aurora\, CO\, 80017\, United States
CATEGORIES:Colorado Auctions
END:VEVENT
BEGIN:VEVENT
DTSTART;TZID=America/Denver:20260114T113000
DTEND;TZID=America/Denver:20260114T113000
DTSTAMP:20260423T172328
CREATED:20250712T023539Z
LAST-MODIFIED:20260113T190147Z
UID:7624-1768390200-1768390200@storageauctionkings.com
SUMMARY:U-Haul Self Storage Galena
DESCRIPTION:6 units as of 1/13/2026.  Subject to change without notice. \n\n\n\n\n\nYou are sure to find something! \n\n\n\n \n 
URL:https://storageauctionkings.com/event/u-haul-self-storage-galena/
LOCATION:U-Haul Ctr Galena\, 3410 S. Galena St.\, Denver\, CO\, 80231\, United States
CATEGORIES:Colorado Auctions
END:VEVENT
BEGIN:VEVENT
DTSTART;TZID=America/Denver:20260114T120000
DTEND;TZID=America/Denver:20260114T120000
DTSTAMP:20260423T172328
CREATED:20220316T143026Z
LAST-MODIFIED:20260113T190353Z
UID:5460-1768392000-1768392000@storageauctionkings.com
SUMMARY:U-Haul Center S. Havana
DESCRIPTION:10 units as of 1/13/2026.   Subject to change without notice.\n\n\n\n\nYou’re sure to find something at this one! \n\n\n\n \n 
URL:https://storageauctionkings.com/event/u-haul-center-s-havana-2/
LOCATION:U-Haul Ctr 44\, S. Havana\, 615 S. Havana\, Aurora\, CO\, 80012\, United States
CATEGORIES:Colorado Auctions
END:VEVENT
BEGIN:VEVENT
DTSTART;TZID=America/Denver:20260114T140000
DTEND;TZID=America/Denver:20260114T140000
DTSTAMP:20260423T172328
CREATED:20221113T150440Z
LAST-MODIFIED:20260114T224104Z
UID:5974-1768399200-1768399200@storageauctionkings.com
SUMMARY:Central Park Self Storage
DESCRIPTION:7 units as of 1/12/2025.   Subject to change without notice. \n\n\n\nCome out and check it out! \nNote: Storage Auction Kings provides the lock-cut and inventory service for this location. \n\n\n\n 
URL:https://storageauctionkings.com/event/central-park-self-storage-3/
LOCATION:Stapleton Self Storage\, 9591 E. 22nd Ave.\, Aurora\, CO\, 80010\, United States
CATEGORIES:Colorado Auctions
END:VEVENT
BEGIN:VEVENT
DTSTART;TZID=America/Denver:20260114T150000
DTEND;TZID=America/Denver:20260114T150000
DTSTAMP:20260423T172328
CREATED:20220322T212320Z
LAST-MODIFIED:20260114T222836Z
UID:5471-1768402800-1768402800@storageauctionkings.com
SUMMARY:-CANCELLED- Coronado Self Storage
DESCRIPTION:3 units as of 1/12/2026.  Subject to change without notice.  Come see what you can find! \n\n\n\nNote: Storage Auction Kings provides the lock-cut and inventory service for this location.
URL:https://storageauctionkings.com/event/coronado-self-storage-3/
LOCATION:Coronado Self Storage\, 2045 Coronado Pkwy N\, Thornton\, CO\, 80229\, United States
CATEGORIES:Colorado Auctions
END:VEVENT
BEGIN:VEVENT
DTSTART;TZID=America/Denver:20260114T153000
DTEND;TZID=America/Denver:20260114T153000
DTSTAMP:20260423T172328
CREATED:20221113T150729Z
LAST-MODIFIED:20260114T121951Z
UID:5979-1768404600-1768404600@storageauctionkings.com
SUMMARY:-CANCELLED- Federal Heights Self Storage
DESCRIPTION:Subject to change without notice. \nCome and check out this location! \nNote: Storage Auction Kings provides the lock-cut and inventory service for this location. \n\n\n\n \n \n 
URL:https://storageauctionkings.com/event/federal-heights-self-storage/
LOCATION:Federal Hts Store LLC\, 9230 Federal Blvd.\, Westminster\, CO\, 80260\, United States
CATEGORIES:Colorado Auctions
END:VEVENT
BEGIN:VEVENT
DTSTART;TZID=America/Denver:20260115T153000
DTEND;TZID=America/Denver:20260115T153000
DTSTAMP:20260423T172328
CREATED:20251109T201820Z
LAST-MODIFIED:20260103T160456Z
UID:7903-1768491000-1768491000@storageauctionkings.com
SUMMARY:U-Haul Self Storage Loveland - Byrd Drive
DESCRIPTION:NEW LOCATION!!\n\n \n\n  Subject to change without notice. \n \n\n\n\n\n\nCome join us! \n\n\n\n \n \n 
URL:https://storageauctionkings.com/event/u-haul-self-storage-loveland-byrd-drive-2/
LOCATION:UHaul Loveland – Byrd\, 5550 Byrd Drive\, Loveland\, 80538\, United States
CATEGORIES:Colorado Auctions
END:VEVENT
BEGIN:VEVENT
DTSTART;TZID=America/Denver:20260115T160000
DTEND;TZID=America/Denver:20260115T160000
DTSTAMP:20260423T172328
CREATED:20250712T000005Z
LAST-MODIFIED:20260103T160657Z
UID:7611-1768492800-1768492800@storageauctionkings.com
SUMMARY:U-Haul Self Storage Loveland
DESCRIPTION:Subject to change without notice. \n \n\n\n\n\n\nCome join us! \n\n\n\n \n \n 
URL:https://storageauctionkings.com/event/u-haul-self-storage-loveland-3/
LOCATION:UHaul Loveland\, 3305 N. Lincoln Ave.\, Loveland\, CO\, 80538\, United States
CATEGORIES:Colorado Auctions
END:VEVENT
END:VCALENDAR